BEGIN:VCALENDAR
VERSION:2.0
PRODID:-//Mascus Blog Eesti - ECPv6.15.17//NONSGML v1.0//EN
CALSCALE:GREGORIAN
METHOD:PUBLISH
X-ORIGINAL-URL:https://blog.mascus.ee
X-WR-CALDESC:Events for Mascus Blog Eesti
REFRESH-INTERVAL;VALUE=DURATION:PT1H
X-Robots-Tag:noindex
X-PUBLISHED-TTL:PT1H
BEGIN:VTIMEZONE
TZID:UTC
BEGIN:STANDARD
TZOFFSETFROM:+0000
TZOFFSETTO:+0000
TZNAME:UTC
DTSTART:20210101T000000
END:STANDARD
END:VTIMEZONE
BEGIN:VEVENT
DTSTART;VALUE=DATE:20220802
DTEND;VALUE=DATE:20220805
DTSTAMP:20260421T015709
CREATED:20220223T130340Z
LAST-MODIFIED:20220223T130340Z
UID:1242-1659398400-1659657599@blog.mascus.ee
SUMMARY:The 10th Inner Mongolia (Mengdong) Agricultural Machinery Expo in 2022
DESCRIPTION:Ana Maria JurcaCommunications Specialist & Social Media Manager at Mascus
URL:https://blog.mascus.ee/fair/the-10th-inner-mongolia-mengdong-agricultural-machinery-expo-in-2022/
LOCATION:CN\, China
CATEGORIES:Agriculture
ATTACH;FMTTYPE=image/jpeg:https://blog.mascus.ee/wp-content/uploads/sites/20/2019/12/stand_banner_10601.jpg
END:VEVENT
BEGIN:VEVENT
DTSTART;VALUE=DATE:20220811
DTEND;VALUE=DATE:20220814
DTSTAMP:20260421T015709
CREATED:20220223T130341Z
LAST-MODIFIED:20220223T130341Z
UID:1243-1660176000-1660435199@blog.mascus.ee
SUMMARY:China Int'l Bulk Material Conveying & Handling Expo 2022
DESCRIPTION:Ana Maria JurcaCommunications Specialist & Social Media Manager at Mascus
URL:https://blog.mascus.ee/fair/china-intl-bulk-material-conveying-handling-expo-2022/
LOCATION:CN\, China
CATEGORIES:Construction
ATTACH;FMTTYPE=image/jpeg:https://blog.mascus.ee/wp-content/uploads/sites/20/2019/12/stand_banner_10601.jpg
END:VEVENT
BEGIN:VEVENT
DTSTART;VALUE=DATE:20220817
DTEND;VALUE=DATE:20220821
DTSTAMP:20260421T015709
CREATED:20220223T130342Z
LAST-MODIFIED:20220223T130342Z
UID:1245-1660694400-1661039999@blog.mascus.ee
SUMMARY:FarmerExpo
DESCRIPTION:Ana Maria JurcaCommunications Specialist & Social Media Manager at Mascus
URL:https://blog.mascus.ee/fair/farmerexpo/
LOCATION:HU\, Hungary
CATEGORIES:Agriculture
ATTACH;FMTTYPE=image/jpeg:https://blog.mascus.ee/wp-content/uploads/sites/20/2019/12/stand_banner_10601.jpg
END:VEVENT
BEGIN:VEVENT
DTSTART;VALUE=DATE:20220820
DTEND;VALUE=DATE:20220826
DTSTAMP:20260421T015709
CREATED:20220223T125738Z
LAST-MODIFIED:20220223T125738Z
UID:1229-1660953600-1661471999@blog.mascus.ee
SUMMARY:60. Mednarodni kmetijsko-živilski sejem Agra
DESCRIPTION:Ana Maria JurcaCommunications Specialist & Social Media Manager at Mascus
URL:https://blog.mascus.ee/fair/60-mednarodni-kmetijsko-zivilski-sejem-agra/
LOCATION:SI\, Slovenia
CATEGORIES:Agriculture
ATTACH;FMTTYPE=image/jpeg:https://blog.mascus.ee/wp-content/uploads/sites/20/2019/12/stand_banner_10601.jpg
END:VEVENT
BEGIN:VEVENT
DTSTART;VALUE=DATE:20220825
DTEND;VALUE=DATE:20220831
DTSTAMP:20260421T015709
CREATED:20220223T130426Z
LAST-MODIFIED:20220223T130426Z
UID:1247-1661385600-1661903999@blog.mascus.ee
SUMMARY:Temě živitelka
DESCRIPTION:Ana Maria JurcaCommunications Specialist & Social Media Manager at Mascus
URL:https://blog.mascus.ee/fair/teme-zivitelka/
LOCATION:CZ\, Czech Republic
CATEGORIES:Agriculture
ATTACH;FMTTYPE=image/jpeg:https://blog.mascus.ee/wp-content/uploads/sites/20/2019/12/stand_banner_10601.jpg
END:VEVENT
END:VCALENDAR