BEGIN:VCALENDAR
VERSION:2.0
PRODID:-//Mascus Blog Eesti - ECPv6.15.17//NONSGML v1.0//EN
CALSCALE:GREGORIAN
METHOD:PUBLISH
X-WR-CALNAME:Mascus Blog Eesti
X-ORIGINAL-URL:https://blog.mascus.ee
X-WR-CALDESC:Events for Mascus Blog Eesti
REFRESH-INTERVAL;VALUE=DURATION:PT1H
X-Robots-Tag:noindex
X-PUBLISHED-TTL:PT1H
BEGIN:VTIMEZONE
TZID:UTC
BEGIN:STANDARD
TZOFFSETFROM:+0000
TZOFFSETTO:+0000
TZNAME:UTC
DTSTART:20210101T000000
END:STANDARD
END:VTIMEZONE
BEGIN:VEVENT
DTSTART;VALUE=DATE:20220504
DTEND;VALUE=DATE:20220506
DTSTAMP:20260420T201912
CREATED:20220223T125500Z
LAST-MODIFIED:20220223T125500Z
UID:1217-1651622400-1651795199@blog.mascus.ee
SUMMARY:Lamma Agri
DESCRIPTION:Ana Maria JurcaCommunications Specialist & Social Media Manager at Mascus
URL:https://blog.mascus.ee/fair/lamma-agri/
LOCATION:UK\, United Kingdom
CATEGORIES:Agriculture
ATTACH;FMTTYPE=image/jpeg:https://blog.mascus.ee/wp-content/uploads/sites/20/2019/12/stand_banner_10601.jpg
END:VEVENT
BEGIN:VEVENT
DTSTART;VALUE=DATE:20220511
DTEND;VALUE=DATE:20220515
DTSTAMP:20260420T201912
CREATED:20220223T125702Z
LAST-MODIFIED:20220223T125702Z
UID:1222-1652227200-1652572799@blog.mascus.ee
SUMMARY:Vei og Anlegg 2022
DESCRIPTION:Ana Maria JurcaCommunications Specialist & Social Media Manager at Mascus
URL:https://blog.mascus.ee/fair/vei-og-anlegg-2022/
LOCATION:NO\, Norway
CATEGORIES:Construction
ATTACH;FMTTYPE=image/jpeg:https://blog.mascus.ee/wp-content/uploads/sites/20/2019/12/stand_banner_10601.jpg
END:VEVENT
BEGIN:VEVENT
DTSTART;VALUE=DATE:20220512
DTEND;VALUE=DATE:20220515
DTSTAMP:20260420T201912
CREATED:20220223T125737Z
LAST-MODIFIED:20220223T125737Z
UID:1227-1652313600-1652572799@blog.mascus.ee
SUMMARY:Lauksaimniecības biznesa izstāde "Pavasaris" 2022. Rāmava
DESCRIPTION:Ana Maria JurcaCommunications Specialist & Social Media Manager at Mascus
URL:https://blog.mascus.ee/fair/lauksaimniecibas-biznesa-izstade-pavasaris-2022-ramava/
LOCATION:LV\, Latvia
CATEGORIES:Agriculture
ATTACH;FMTTYPE=image/jpeg:https://blog.mascus.ee/wp-content/uploads/sites/20/2019/12/stand_banner_10601.jpg
END:VEVENT
BEGIN:VEVENT
DTSTART;VALUE=DATE:20220521
DTEND;VALUE=DATE:20220523
DTSTAMP:20260420T201912
CREATED:20220223T125937Z
LAST-MODIFIED:20220223T125937Z
UID:1231-1653091200-1653263999@blog.mascus.ee
SUMMARY:Zielone Agroshow
DESCRIPTION:Ana Maria JurcaCommunications Specialist & Social Media Manager at Mascus
URL:https://blog.mascus.ee/fair/zielone-agroshow-2/
LOCATION:PL\, Poland
CATEGORIES:Agriculture
ATTACH;FMTTYPE=image/jpeg:https://blog.mascus.ee/wp-content/uploads/sites/20/2019/12/stand_banner_10601.jpg
END:VEVENT
BEGIN:VEVENT
DTSTART;VALUE=DATE:20220524
DTEND;VALUE=DATE:20220528
DTSTAMP:20260420T201912
CREATED:20220223T125501Z
LAST-MODIFIED:20220223T125501Z
UID:1218-1653350400-1653695999@blog.mascus.ee
SUMMARY:CTT
DESCRIPTION:Ana Maria JurcaCommunications Specialist & Social Media Manager at Mascus
URL:https://blog.mascus.ee/fair/ctt/
LOCATION:RU\, Russia
CATEGORIES:Construction
ATTACH;FMTTYPE=image/jpeg:https://blog.mascus.ee/wp-content/uploads/sites/20/2019/12/stand_banner_10601.jpg
END:VEVENT
BEGIN:VEVENT
DTSTART;VALUE=DATE:20220525
DTEND;VALUE=DATE:20220528
DTSTAMP:20260420T201912
CREATED:20220223T130139Z
LAST-MODIFIED:20220223T130139Z
UID:1236-1653436800-1653695999@blog.mascus.ee
SUMMARY:CSPI-EXPO
DESCRIPTION:Ana Maria JurcaCommunications Specialist & Social Media Manager at Mascus
URL:https://blog.mascus.ee/fair/cspi-expo/
LOCATION:JP\, Japan
CATEGORIES:Construction
ATTACH;FMTTYPE=image/jpeg:https://blog.mascus.ee/wp-content/uploads/sites/20/2019/12/stand_banner_10601.jpg
END:VEVENT
BEGIN:VEVENT
DTSTART;VALUE=DATE:20220527
DTEND;VALUE=DATE:20220530
DTSTAMP:20260420T201912
CREATED:20220223T125736Z
LAST-MODIFIED:20220223T125736Z
UID:1226-1653609600-1653868799@blog.mascus.ee
SUMMARY:Ergo Tec
DESCRIPTION:Ana Maria JurcaCommunications Specialist & Social Media Manager at Mascus
URL:https://blog.mascus.ee/fair/ergo-tec/
LOCATION:GR\, Greece
CATEGORIES:Construction
ATTACH;FMTTYPE=image/jpeg:https://blog.mascus.ee/wp-content/uploads/sites/20/2019/12/stand_banner_10601.jpg
END:VEVENT
END:VCALENDAR