BEGIN:VCALENDAR
VERSION:2.0
PRODID:-//Mascus Blog Eesti - ECPv6.15.17//NONSGML v1.0//EN
CALSCALE:GREGORIAN
METHOD:PUBLISH
X-ORIGINAL-URL:https://blog.mascus.ee
X-WR-CALDESC:Events for Mascus Blog Eesti
REFRESH-INTERVAL;VALUE=DURATION:PT1H
X-Robots-Tag:noindex
X-PUBLISHED-TTL:PT1H
BEGIN:VTIMEZONE
TZID:UTC
BEGIN:STANDARD
TZOFFSETFROM:+0000
TZOFFSETTO:+0000
TZNAME:UTC
DTSTART:20190101T000000
END:STANDARD
END:VTIMEZONE
BEGIN:VEVENT
DTSTART;VALUE=DATE:20200701
DTEND;VALUE=DATE:20200802
DTSTAMP:20260421T121341
CREATED:20191223T104724Z
LAST-MODIFIED:20191223T104724Z
UID:565-1593561600-1596326399@blog.mascus.ee
SUMMARY:Lamma 2020
DESCRIPTION:Ana Maria JurcaCommunications Specialist & Social Media Manager at Mascus
URL:https://blog.mascus.ee/fair/lamma-2020/
LOCATION:UK\, United Kingdom
CATEGORIES:Agriculture
ATTACH;FMTTYPE=image/jpeg:https://blog.mascus.ee/wp-content/uploads/sites/20/2019/12/stand_banner_10601.jpg
END:VEVENT
BEGIN:VEVENT
DTSTART;VALUE=DATE:20200807
DTEND;VALUE=DATE:20200810
DTSTAMP:20260421T121341
CREATED:20191223T104726Z
LAST-MODIFIED:20191223T104726Z
UID:568-1596758400-1597017599@blog.mascus.ee
SUMMARY:Szentlőrinci Gazdanapok
DESCRIPTION:Ana Maria JurcaCommunications Specialist & Social Media Manager at Mascus
URL:https://blog.mascus.ee/fair/szentlorinci-gazdanapok/
LOCATION:HU\, Hungary
CATEGORIES:Agriculture
ATTACH;FMTTYPE=image/jpeg:https://blog.mascus.ee/wp-content/uploads/sites/20/2019/12/stand_banner_10601.jpg
END:VEVENT
BEGIN:VEVENT
DTSTART;VALUE=DATE:20200814
DTEND;VALUE=DATE:20200816
DTSTAMP:20260421T121341
CREATED:20191223T104727Z
LAST-MODIFIED:20191223T104727Z
UID:570-1597363200-1597535999@blog.mascus.ee
SUMMARY:Power Truck Show
DESCRIPTION:Ana Maria JurcaCommunications Specialist & Social Media Manager at Mascus
URL:https://blog.mascus.ee/fair/power-truck-show-2/
LOCATION:FI\, Finland
CATEGORIES:Transport
ATTACH;FMTTYPE=image/jpeg:https://blog.mascus.ee/wp-content/uploads/sites/20/2019/12/stand_banner_10601.jpg
END:VEVENT
BEGIN:VEVENT
DTSTART;VALUE=DATE:20200818
DTEND;VALUE=DATE:20200822
DTSTAMP:20260421T121341
CREATED:20191223T104728Z
LAST-MODIFIED:20191223T104728Z
UID:571-1597708800-1598054399@blog.mascus.ee
SUMMARY:Farmer Expo Debrecen
DESCRIPTION:Ana Maria JurcaCommunications Specialist & Social Media Manager at Mascus
URL:https://blog.mascus.ee/fair/farmer-expo-debrecen/
LOCATION:HU\, Hungary
CATEGORIES:Agriculture
ATTACH;FMTTYPE=image/jpeg:https://blog.mascus.ee/wp-content/uploads/sites/20/2019/12/stand_banner_10601.jpg
END:VEVENT
BEGIN:VEVENT
DTSTART;VALUE=DATE:20200819
DTEND;VALUE=DATE:20200823
DTSTAMP:20260421T121341
CREATED:20191223T104729Z
LAST-MODIFIED:20191223T104729Z
UID:572-1597795200-1598140799@blog.mascus.ee
SUMMARY:Elmia Lastbil
DESCRIPTION:Ana Maria JurcaCommunications Specialist & Social Media Manager at Mascus
URL:https://blog.mascus.ee/fair/elmia-lastbil/
LOCATION:SE\, Sweden
CATEGORIES:Transport
ATTACH;FMTTYPE=image/jpeg:https://blog.mascus.ee/wp-content/uploads/sites/20/2019/12/stand_banner_10601.jpg
END:VEVENT
BEGIN:VEVENT
DTSTART;VALUE=DATE:20200821
DTEND;VALUE=DATE:20200823
DTSTAMP:20260421T121341
CREATED:20191223T104729Z
LAST-MODIFIED:20191223T104729Z
UID:573-1597968000-1598140799@blog.mascus.ee
SUMMARY:Mittia
DESCRIPTION:Ana Maria JurcaCommunications Specialist & Social Media Manager at Mascus
URL:https://blog.mascus.ee/fair/mittia-2/
LOCATION:SE\, Sweden
CATEGORIES:Agriculture
ATTACH;FMTTYPE=image/jpeg:https://blog.mascus.ee/wp-content/uploads/sites/20/2019/12/stand_banner_10601.jpg
END:VEVENT
BEGIN:VEVENT
DTSTART;VALUE=DATE:20200821
DTEND;VALUE=DATE:20200902
DTSTAMP:20260421T121341
CREATED:20191223T104730Z
LAST-MODIFIED:20191223T104730Z
UID:574-1597968000-1599004799@blog.mascus.ee
SUMMARY:Země živitelka
DESCRIPTION:Ana Maria JurcaCommunications Specialist & Social Media Manager at Mascus
URL:https://blog.mascus.ee/fair/zeme-zivitelka-2/
LOCATION:CZ\, Czech Republic
CATEGORIES:Agriculture
ATTACH;FMTTYPE=image/jpeg:https://blog.mascus.ee/wp-content/uploads/sites/20/2019/12/stand_banner_10601.jpg
END:VEVENT
BEGIN:VEVENT
DTSTART;VALUE=DATE:20200822
DTEND;VALUE=DATE:20200828
DTSTAMP:20260421T121341
CREATED:20191223T104730Z
LAST-MODIFIED:20191223T104730Z
UID:575-1598054400-1598572799@blog.mascus.ee
SUMMARY:Sejem AGRA Gornja Radgona
DESCRIPTION:Ana Maria JurcaCommunications Specialist & Social Media Manager at Mascus
URL:https://blog.mascus.ee/fair/sejem-agra-gornja-radgona/
LOCATION:SI\, Slovenia
CATEGORIES:Agriculture
ATTACH;FMTTYPE=image/jpeg:https://blog.mascus.ee/wp-content/uploads/sites/20/2019/12/stand_banner_10601.jpg
END:VEVENT
BEGIN:VEVENT
DTSTART;VALUE=DATE:20200826
DTEND;VALUE=DATE:20200830
DTSTAMP:20260421T121341
CREATED:20191223T104731Z
LAST-MODIFIED:20191223T104731Z
UID:576-1598400000-1598745599@blog.mascus.ee
SUMMARY:SteinExpo Homberg
DESCRIPTION:Ana Maria JurcaCommunications Specialist & Social Media Manager at Mascus
URL:https://blog.mascus.ee/fair/steinexpo-homberg/
LOCATION:DE\, Germany
CATEGORIES:Construction
ATTACH;FMTTYPE=image/jpeg:https://blog.mascus.ee/wp-content/uploads/sites/20/2019/12/stand_banner_10601.jpg
END:VEVENT
BEGIN:VEVENT
DTSTART;VALUE=DATE:20200827
DTEND;VALUE=DATE:20200830
DTSTAMP:20260421T121341
CREATED:20191223T104732Z
LAST-MODIFIED:20191223T104732Z
UID:577-1598486400-1598745599@blog.mascus.ee
SUMMARY:Load Up north
DESCRIPTION:Ana Maria JurcaCommunications Specialist & Social Media Manager at Mascus
URL:https://blog.mascus.ee/fair/load-up-north-2/
LOCATION:SE\, Sweden
CATEGORIES:Construction
ATTACH;FMTTYPE=image/jpeg:https://blog.mascus.ee/wp-content/uploads/sites/20/2019/12/stand_banner_10601.jpg
END:VEVENT
BEGIN:VEVENT
DTSTART;VALUE=DATE:20200828
DTEND;VALUE=DATE:20200831
DTSTAMP:20260421T121341
CREATED:20191223T104732Z
LAST-MODIFIED:20191223T104732Z
UID:578-1598572800-1598831999@blog.mascus.ee
SUMMARY:Agrisjå 2020
DESCRIPTION:Ana Maria JurcaCommunications Specialist & Social Media Manager at Mascus
URL:https://blog.mascus.ee/fair/agrisja-2020/
LOCATION:NO\, Norway
CATEGORIES:Agriculture
ATTACH;FMTTYPE=image/jpeg:https://blog.mascus.ee/wp-content/uploads/sites/20/2019/12/stand_banner_10601.jpg
END:VEVENT
END:VCALENDAR