BEGIN:VCALENDAR
VERSION:2.0
PRODID:-//Mascus Blog Eesti - ECPv6.15.17//NONSGML v1.0//EN
CALSCALE:GREGORIAN
METHOD:PUBLISH
X-ORIGINAL-URL:https://blog.mascus.ee
X-WR-CALDESC:Events for Mascus Blog Eesti
REFRESH-INTERVAL;VALUE=DURATION:PT1H
X-Robots-Tag:noindex
X-PUBLISHED-TTL:PT1H
BEGIN:VTIMEZONE
TZID:UTC
BEGIN:STANDARD
TZOFFSETFROM:+0000
TZOFFSETTO:+0000
TZNAME:UTC
DTSTART:20190101T000000
END:STANDARD
END:VTIMEZONE
BEGIN:VEVENT
DTSTART;VALUE=DATE:20200701
DTEND;VALUE=DATE:20200802
DTSTAMP:20260421T140127
CREATED:20191223T104724Z
LAST-MODIFIED:20191223T104724Z
UID:565-1593561600-1596326399@blog.mascus.ee
SUMMARY:Lamma 2020
DESCRIPTION:Ana Maria JurcaCommunications Specialist & Social Media Manager at Mascus
URL:https://blog.mascus.ee/fair/lamma-2020/
LOCATION:UK\, United Kingdom
CATEGORIES:Agriculture
ATTACH;FMTTYPE=image/jpeg:https://blog.mascus.ee/wp-content/uploads/sites/20/2019/12/stand_banner_10601.jpg
END:VEVENT
BEGIN:VEVENT
DTSTART;VALUE=DATE:20200720
DTEND;VALUE=DATE:20200724
DTSTAMP:20260421T140127
CREATED:20191223T104725Z
LAST-MODIFIED:20191223T104725Z
UID:566-1595203200-1595548799@blog.mascus.ee
SUMMARY:Royal Welsh show
DESCRIPTION:Ana Maria JurcaCommunications Specialist & Social Media Manager at Mascus
URL:https://blog.mascus.ee/fair/royal-welsh-show/
LOCATION:UK\, United Kingdom
CATEGORIES:Agriculture
ATTACH;FMTTYPE=image/jpeg:https://blog.mascus.ee/wp-content/uploads/sites/20/2019/12/stand_banner_10601.jpg
END:VEVENT
BEGIN:VEVENT
DTSTART;VALUE=DATE:20200724
DTEND;VALUE=DATE:20200728
DTSTAMP:20260421T140127
CREATED:20191223T104726Z
LAST-MODIFIED:20191223T104726Z
UID:567-1595548800-1595894399@blog.mascus.ee
SUMMARY:Foire de Libramont
DESCRIPTION:Ana Maria JurcaCommunications Specialist & Social Media Manager at Mascus
URL:https://blog.mascus.ee/fair/foire-de-libramont/
LOCATION:BE\, Belgium
CATEGORIES:Agriculture
ATTACH;FMTTYPE=image/jpeg:https://blog.mascus.ee/wp-content/uploads/sites/20/2019/12/stand_banner_10601.jpg
END:VEVENT
END:VCALENDAR