BEGIN:VCALENDAR
VERSION:2.0
PRODID:-//Mascus Blog Eesti - ECPv6.15.17//NONSGML v1.0//EN
CALSCALE:GREGORIAN
METHOD:PUBLISH
X-WR-CALNAME:Mascus Blog Eesti
X-ORIGINAL-URL:https://blog.mascus.ee
X-WR-CALDESC:Events for Mascus Blog Eesti
REFRESH-INTERVAL;VALUE=DURATION:PT1H
X-Robots-Tag:noindex
X-PUBLISHED-TTL:PT1H
BEGIN:VTIMEZONE
TZID:UTC
BEGIN:STANDARD
TZOFFSETFROM:+0000
TZOFFSETTO:+0000
TZNAME:UTC
DTSTART:20190101T000000
END:STANDARD
END:VTIMEZONE
BEGIN:VEVENT
DTSTART;VALUE=DATE:20200429
DTEND;VALUE=DATE:20200504
DTSTAMP:20260421T172905
CREATED:20191223T104713Z
LAST-MODIFIED:20191223T104713Z
UID:545-1588118400-1588550399@blog.mascus.ee
SUMMARY:37ª Ovibeja - Feira de Agricultura
DESCRIPTION:Ana Maria JurcaCommunications Specialist & Social Media Manager at Mascus
URL:https://blog.mascus.ee/fair/37a-ovibeja-feira-de-agricultura/
LOCATION:PT\, Portugal
CATEGORIES:Agriculture
ATTACH;FMTTYPE=image/jpeg:https://blog.mascus.ee/wp-content/uploads/sites/20/2019/12/stand_banner_10601.jpg
END:VEVENT
BEGIN:VEVENT
DTSTART;VALUE=DATE:20200506
DTEND;VALUE=DATE:20200510
DTSTAMP:20260421T172905
CREATED:20191223T104714Z
LAST-MODIFIED:20191223T104714Z
UID:547-1588723200-1589068799@blog.mascus.ee
SUMMARY:Tectónica - Feira internacional de construção e obras públicas
DESCRIPTION:Ana Maria JurcaCommunications Specialist & Social Media Manager at Mascus
URL:https://blog.mascus.ee/fair/tectonica-feira-internacional-de-construcao-e-obras-publicas/
LOCATION:PT\, Portugal
CATEGORIES:Construction
ATTACH;FMTTYPE=image/jpeg:https://blog.mascus.ee/wp-content/uploads/sites/20/2019/12/stand_banner_10601.jpg
END:VEVENT
BEGIN:VEVENT
DTSTART;VALUE=DATE:20200506
DTEND;VALUE=DATE:20200507
DTSTAMP:20260421T172905
CREATED:20191223T104714Z
LAST-MODIFIED:20191223T104714Z
UID:548-1588723200-1588809599@blog.mascus.ee
SUMMARY:National Construction Expo
DESCRIPTION:Ana Maria JurcaCommunications Specialist & Social Media Manager at Mascus
URL:https://blog.mascus.ee/fair/national-construction-expo/
LOCATION:UK\, United Kingdom
CATEGORIES:Construction
ATTACH;FMTTYPE=image/jpeg:https://blog.mascus.ee/wp-content/uploads/sites/20/2019/12/stand_banner_10601.jpg
END:VEVENT
BEGIN:VEVENT
DTSTART;VALUE=DATE:20200508
DTEND;VALUE=DATE:20200511
DTSTAMP:20260421T172905
CREATED:20191223T104708Z
LAST-MODIFIED:20200312T133421Z
UID:537-1588896000-1589155199@blog.mascus.ee
SUMMARY:Spomladanski Kmetijsko obrtni sejem Komenda 2020
DESCRIPTION:Ana Maria JurcaCommunications Specialist & Social Media Manager at Mascus
URL:https://blog.mascus.ee/fair/spomladanski-kmetijsko-obrtni-sejem-komenda-2020/
LOCATION:SI\, Slovenia
CATEGORIES:Agriculture,Forestry
ATTACH;FMTTYPE=image/jpeg:https://blog.mascus.ee/wp-content/uploads/sites/20/2019/12/stand_banner_10601.jpg
END:VEVENT
BEGIN:VEVENT
DTSTART;VALUE=DATE:20200508
DTEND;VALUE=DATE:20200511
DTSTAMP:20260421T172905
CREATED:20191223T104715Z
LAST-MODIFIED:20191223T104715Z
UID:549-1588896000-1589155199@blog.mascus.ee
SUMMARY:Anlegg 2020 Haugesund
DESCRIPTION:Ana Maria JurcaCommunications Specialist & Social Media Manager at Mascus
URL:https://blog.mascus.ee/fair/anlegg-2020-haugesund/
LOCATION:NO\, Norway
CATEGORIES:Construction
ATTACH;FMTTYPE=image/jpeg:https://blog.mascus.ee/wp-content/uploads/sites/20/2019/12/stand_banner_10601.jpg
END:VEVENT
BEGIN:VEVENT
DTSTART;VALUE=DATE:20200513
DTEND;VALUE=DATE:20200515
DTSTAMP:20260421T172905
CREATED:20191223T104715Z
LAST-MODIFIED:20191223T104715Z
UID:550-1589328000-1589500799@blog.mascus.ee
SUMMARY:Vertikal Days 2020
DESCRIPTION:Ana Maria JurcaCommunications Specialist & Social Media Manager at Mascus
URL:https://blog.mascus.ee/fair/vertikal-days-2020/
LOCATION:UK\, United Kingdom
CATEGORIES:Construction,Material Handling
ATTACH;FMTTYPE=image/jpeg:https://blog.mascus.ee/wp-content/uploads/sites/20/2019/12/stand_banner_10601.jpg
END:VEVENT
BEGIN:VEVENT
DTSTART;VALUE=DATE:20200516
DTEND;VALUE=DATE:20200523
DTSTAMP:20260421T172905
CREATED:20191223T104716Z
LAST-MODIFIED:20191223T104716Z
UID:551-1589587200-1590191999@blog.mascus.ee
SUMMARY:Međunarodni poljoprivredni sajam Novi Sad Srbija
DESCRIPTION:Ana Maria JurcaCommunications Specialist & Social Media Manager at Mascus
URL:https://blog.mascus.ee/fair/medunarodni-poljoprivredni-sajam-novi-sad-srbija/
LOCATION:RS\, Serbia
CATEGORIES:Agriculture
ATTACH;FMTTYPE=image/jpeg:https://blog.mascus.ee/wp-content/uploads/sites/20/2019/12/stand_banner_10601.jpg
END:VEVENT
BEGIN:VEVENT
DTSTART;VALUE=DATE:20200526
DTEND;VALUE=DATE:20200529
DTSTAMP:20260421T172905
CREATED:20191223T104717Z
LAST-MODIFIED:20191223T104717Z
UID:553-1590451200-1590710399@blog.mascus.ee
SUMMARY:LET-a CeMAT ASIA event 2020
DESCRIPTION:Ana Maria JurcaCommunications Specialist & Social Media Manager at Mascus
URL:https://blog.mascus.ee/fair/let-a-cemat-asia-event-2020/
LOCATION:CN\, China
CATEGORIES:Material Handling
ATTACH;FMTTYPE=image/jpeg:https://blog.mascus.ee/wp-content/uploads/sites/20/2019/12/stand_banner_10601.jpg
END:VEVENT
BEGIN:VEVENT
DTSTART;VALUE=DATE:20200526
DTEND;VALUE=DATE:20200530
DTSTAMP:20260421T172905
CREATED:20191223T104718Z
LAST-MODIFIED:20191223T104718Z
UID:554-1590451200-1590796799@blog.mascus.ee
SUMMARY:bauma СТТ RUSSIA
DESCRIPTION:Ana Maria JurcaCommunications Specialist & Social Media Manager at Mascus
URL:https://blog.mascus.ee/fair/bauma-%d1%81%d1%82%d1%82-russia/
LOCATION:RU\, Russia
CATEGORIES:Construction
ATTACH;FMTTYPE=image/jpeg:https://blog.mascus.ee/wp-content/uploads/sites/20/2019/12/stand_banner_10601.jpg
END:VEVENT
BEGIN:VEVENT
DTSTART;VALUE=DATE:20200528
DTEND;VALUE=DATE:20200531
DTSTAMP:20260421T172905
CREATED:20191223T104701Z
LAST-MODIFIED:20200312T115647Z
UID:526-1590624000-1590883199@blog.mascus.ee
SUMMARY:CHAME“中国（山东）国际农业机械展览会”
DESCRIPTION:Ana Maria JurcaCommunications Specialist & Social Media Manager at Mascus
URL:https://blog.mascus.ee/fair/chame%e4%b8%ad%e5%9b%bd%ef%bc%88%e5%b1%b1%e4%b8%9c%ef%bc%89%e5%9b%bd%e9%99%85%e5%86%9c%e4%b8%9a%e6%9c%ba%e6%a2%b0%e5%b1%95%e8%a7%88%e4%bc%9a/
LOCATION:CN\, China
CATEGORIES:Agriculture
ATTACH;FMTTYPE=image/jpeg:https://blog.mascus.ee/wp-content/uploads/sites/20/2019/12/stand_banner_10601.jpg
END:VEVENT
BEGIN:VEVENT
DTSTART;VALUE=DATE:20200529
DTEND;VALUE=DATE:20200601
DTSTAMP:20260421T172905
CREATED:20191223T104705Z
LAST-MODIFIED:20200312T124031Z
UID:532-1590710400-1590969599@blog.mascus.ee
SUMMARY:VERDE -TEC
DESCRIPTION:Ana Maria JurcaCommunications Specialist & Social Media Manager at Mascus
URL:https://blog.mascus.ee/fair/verde-tec/
LOCATION:GR\, Greece
CATEGORIES:Construction
ATTACH;FMTTYPE=image/jpeg:https://blog.mascus.ee/wp-content/uploads/sites/20/2019/12/stand_banner_10601.jpg
END:VEVENT
END:VCALENDAR