BEGIN:VCALENDAR
VERSION:2.0
PRODID:-//Mascus Blog Eesti - ECPv6.15.17//NONSGML v1.0//EN
CALSCALE:GREGORIAN
METHOD:PUBLISH
X-WR-CALNAME:Mascus Blog Eesti
X-ORIGINAL-URL:https://blog.mascus.ee
X-WR-CALDESC:Events for Mascus Blog Eesti
REFRESH-INTERVAL;VALUE=DURATION:PT1H
X-Robots-Tag:noindex
X-PUBLISHED-TTL:PT1H
BEGIN:VTIMEZONE
TZID:UTC
BEGIN:STANDARD
TZOFFSETFROM:+0000
TZOFFSETTO:+0000
TZNAME:UTC
DTSTART:20190101T000000
END:STANDARD
END:VTIMEZONE
BEGIN:VEVENT
DTSTART;VALUE=DATE:20200401
DTEND;VALUE=DATE:20200404
DTSTAMP:20260421T191216
CREATED:20200207T082507Z
LAST-MODIFIED:20200207T083115Z
UID:641-1585699200-1585958399@blog.mascus.ee
SUMMARY:Spring Construction Forum 2020
DESCRIPTION:Ana Maria JurcaCommunications Specialist & Social Media Manager at Mascus
URL:https://blog.mascus.ee/fair/spring-construction-forum-2020/
LOCATION:UA\, Ukraine
CATEGORIES:Construction
END:VEVENT
BEGIN:VEVENT
DTSTART;VALUE=DATE:20200403
DTEND;VALUE=DATE:20200405
DTSTAMP:20260421T191216
CREATED:20191223T104709Z
LAST-MODIFIED:20191223T104709Z
UID:538-1585872000-1586044799@blog.mascus.ee
SUMMARY:Mansen Mörinät
DESCRIPTION:Ana Maria JurcaCommunications Specialist & Social Media Manager at Mascus
URL:https://blog.mascus.ee/fair/mansen-morinat/
LOCATION:FI\, Finland
CATEGORIES:Construction
ATTACH;FMTTYPE=image/jpeg:https://blog.mascus.ee/wp-content/uploads/sites/20/2019/12/stand_banner_10601.jpg
END:VEVENT
BEGIN:VEVENT
DTSTART;VALUE=DATE:20200403
DTEND;VALUE=DATE:20200404
DTSTAMP:20260421T191216
CREATED:20191223T104709Z
LAST-MODIFIED:20191223T104709Z
UID:539-1585872000-1585958399@blog.mascus.ee
SUMMARY:FarmExpo 2020
DESCRIPTION:Ana Maria JurcaCommunications Specialist & Social Media Manager at Mascus
URL:https://blog.mascus.ee/fair/farmexpo-2020/
LOCATION:UK\, United Kingdom
CATEGORIES:Agriculture
ATTACH;FMTTYPE=image/jpeg:https://blog.mascus.ee/wp-content/uploads/sites/20/2019/12/stand_banner_10601.jpg
END:VEVENT
BEGIN:VEVENT
DTSTART;VALUE=DATE:20200403
DTEND;VALUE=DATE:20200406
DTSTAMP:20260421T191217
CREATED:20191223T104710Z
LAST-MODIFIED:20191223T104710Z
UID:540-1585872000-1586131199@blog.mascus.ee
SUMMARY:Jesenski Kmetijsko obrtni sejem Komenda 2020
DESCRIPTION:Ana Maria JurcaCommunications Specialist & Social Media Manager at Mascus
URL:https://blog.mascus.ee/fair/jesenski-kmetijsko-obrtni-sejem-komenda-2020/
LOCATION:SI\, Slovenia
CATEGORIES:Agriculture,Forestry
ATTACH;FMTTYPE=image/jpeg:https://blog.mascus.ee/wp-content/uploads/sites/20/2019/12/stand_banner_10601.jpg
END:VEVENT
BEGIN:VEVENT
DTSTART;VALUE=DATE:20200422
DTEND;VALUE=DATE:20200426
DTSTAMP:20260421T191217
CREATED:20191223T104712Z
LAST-MODIFIED:20191223T104712Z
UID:544-1587513600-1587859199@blog.mascus.ee
SUMMARY:SEEBBE Medjunarodni sajam Gradjevinarstva Beograd
DESCRIPTION:Ana Maria JurcaCommunications Specialist & Social Media Manager at Mascus
URL:https://blog.mascus.ee/fair/seebbe-medjunarodni-sajam-gradjevinarstva-beograd/
LOCATION:RS\, Serbia
CATEGORIES:Construction
ATTACH;FMTTYPE=image/jpeg:https://blog.mascus.ee/wp-content/uploads/sites/20/2019/12/stand_banner_10601.jpg
END:VEVENT
BEGIN:VEVENT
DTSTART;VALUE=DATE:20200429
DTEND;VALUE=DATE:20200504
DTSTAMP:20260421T191217
CREATED:20191223T104713Z
LAST-MODIFIED:20191223T104713Z
UID:545-1588118400-1588550399@blog.mascus.ee
SUMMARY:37ª Ovibeja - Feira de Agricultura
DESCRIPTION:Ana Maria JurcaCommunications Specialist & Social Media Manager at Mascus
URL:https://blog.mascus.ee/fair/37a-ovibeja-feira-de-agricultura/
LOCATION:PT\, Portugal
CATEGORIES:Agriculture
ATTACH;FMTTYPE=image/jpeg:https://blog.mascus.ee/wp-content/uploads/sites/20/2019/12/stand_banner_10601.jpg
END:VEVENT
END:VCALENDAR