BEGIN:VCALENDAR
VERSION:2.0
PRODID:-//Mascus Blog Eesti - ECPv6.15.17//NONSGML v1.0//EN
CALSCALE:GREGORIAN
METHOD:PUBLISH
X-WR-CALNAME:Mascus Blog Eesti
X-ORIGINAL-URL:https://blog.mascus.ee
X-WR-CALDESC:Events for Mascus Blog Eesti
REFRESH-INTERVAL;VALUE=DURATION:PT1H
X-Robots-Tag:noindex
X-PUBLISHED-TTL:PT1H
BEGIN:VTIMEZONE
TZID:UTC
BEGIN:STANDARD
TZOFFSETFROM:+0000
TZOFFSETTO:+0000
TZNAME:UTC
DTSTART:20190101T000000
END:STANDARD
END:VTIMEZONE
BEGIN:VEVENT
DTSTART;VALUE=DATE:20200121
DTEND;VALUE=DATE:20200124
DTSTAMP:20260422T002220
CREATED:20191223T104654Z
LAST-MODIFIED:20191223T104654Z
UID:515-1579564800-1579823999@blog.mascus.ee
SUMMARY:Arctic Entrepreneur
DESCRIPTION:Ana Maria JurcaCommunications Specialist & Social Media Manager at Mascus
URL:https://blog.mascus.ee/fair/arctic-entrepreneur/
LOCATION:NO\, Norway
CATEGORIES:Construction
ATTACH;FMTTYPE=image/jpeg:https://blog.mascus.ee/wp-content/uploads/sites/20/2019/12/stand_banner_10601.jpg
END:VEVENT
BEGIN:VEVENT
DTSTART;VALUE=DATE:20200122
DTEND;VALUE=DATE:20200126
DTSTAMP:20260422T002220
CREATED:20191223T104655Z
LAST-MODIFIED:20191223T104655Z
UID:517-1579651200-1579996799@blog.mascus.ee
SUMMARY:AgroMash 2020
DESCRIPTION:Ana Maria JurcaCommunications Specialist & Social Media Manager at Mascus
URL:https://blog.mascus.ee/fair/agromash-2020/
LOCATION:HU\, Hungary
CATEGORIES:Agriculture
ATTACH;FMTTYPE=image/jpeg:https://blog.mascus.ee/wp-content/uploads/sites/20/2019/12/stand_banner_10601.jpg
END:VEVENT
BEGIN:VEVENT
DTSTART;VALUE=DATE:20200125
DTEND;VALUE=DATE:20200128
DTSTAMP:20260422T002221
CREATED:20191223T104656Z
LAST-MODIFIED:20191223T104656Z
UID:518-1579910400-1580169599@blog.mascus.ee
SUMMARY:Agro Expo
DESCRIPTION:Ana Maria JurcaCommunications Specialist & Social Media Manager at Mascus
URL:https://blog.mascus.ee/fair/agro-expo/
LOCATION:BE\, Belgium
CATEGORIES:Agriculture
ATTACH;FMTTYPE=image/jpeg:https://blog.mascus.ee/wp-content/uploads/sites/20/2019/12/stand_banner_10601.jpg
END:VEVENT
BEGIN:VEVENT
DTSTART;VALUE=DATE:20200129
DTEND;VALUE=DATE:20200202
DTSTAMP:20260422T002221
CREATED:20191223T104656Z
LAST-MODIFIED:20191223T104656Z
UID:519-1580256000-1580601599@blog.mascus.ee
SUMMARY:Fieragricola
DESCRIPTION:Ana Maria JurcaCommunications Specialist & Social Media Manager at Mascus
URL:https://blog.mascus.ee/fair/fieragricola/
LOCATION:IT\, Italy
CATEGORIES:Agriculture
ATTACH;FMTTYPE=image/jpeg:https://blog.mascus.ee/wp-content/uploads/sites/20/2019/12/stand_banner_10601.jpg
END:VEVENT
BEGIN:VEVENT
DTSTART;VALUE=DATE:20200130
DTEND;VALUE=DATE:20200203
DTSTAMP:20260422T002221
CREATED:20191223T104658Z
LAST-MODIFIED:20191223T104658Z
UID:521-1580342400-1580687999@blog.mascus.ee
SUMMARY:AGROTICA
DESCRIPTION:Ana Maria JurcaCommunications Specialist & Social Media Manager at Mascus
URL:https://blog.mascus.ee/fair/agrotica/
LOCATION:GR\, Greece
CATEGORIES:Agriculture
ATTACH;FMTTYPE=image/jpeg:https://blog.mascus.ee/wp-content/uploads/sites/20/2019/12/stand_banner_10601.jpg
END:VEVENT
BEGIN:VEVENT
DTSTART;VALUE=DATE:20200131
DTEND;VALUE=DATE:20200203
DTSTAMP:20260422T002221
CREATED:20191223T104659Z
LAST-MODIFIED:20191223T104659Z
UID:522-1580428800-1580687999@blog.mascus.ee
SUMMARY:Centralne Targi Rolnicze
DESCRIPTION:Ana Maria JurcaCommunications Specialist & Social Media Manager at Mascus
URL:https://blog.mascus.ee/fair/centralne-targi-rolnicze-2/
LOCATION:PL\, Poland
CATEGORIES:Agriculture
ATTACH;FMTTYPE=image/jpeg:https://blog.mascus.ee/wp-content/uploads/sites/20/2019/12/stand_banner_10601.jpg
END:VEVENT
END:VCALENDAR