BEGIN:VCALENDAR
VERSION:2.0
PRODID:-//Mascus Blog Eesti - ECPv6.15.17//NONSGML v1.0//EN
CALSCALE:GREGORIAN
METHOD:PUBLISH
X-ORIGINAL-URL:https://blog.mascus.ee
X-WR-CALDESC:Events for Mascus Blog Eesti
REFRESH-INTERVAL;VALUE=DURATION:PT1H
X-Robots-Tag:noindex
X-PUBLISHED-TTL:PT1H
BEGIN:VTIMEZONE
TZID:UTC
BEGIN:STANDARD
TZOFFSETFROM:+0000
TZOFFSETTO:+0000
TZNAME:UTC
DTSTART:20180101T000000
END:STANDARD
END:VTIMEZONE
BEGIN:VEVENT
DTSTART;VALUE=DATE:20190802
DTEND;VALUE=DATE:20190805
DTSTAMP:20260422T091709
CREATED:20190709T115407Z
LAST-MODIFIED:20190709T115415Z
UID:387-1564704000-1564963199@blog.mascus.ee
SUMMARY:26. Szentlőrinci Gazdanapok
DESCRIPTION:Ana Maria JurcaCommunications Specialist & Social Media Manager at Mascus
URL:https://blog.mascus.ee/fair/26-szentlorinci-gazdanapok/
LOCATION:HU\, Hungary
CATEGORIES:Agriculture
END:VEVENT
BEGIN:VEVENT
DTSTART;VALUE=DATE:20190809
DTEND;VALUE=DATE:20190811
DTSTAMP:20260422T091709
CREATED:20181228T130338Z
LAST-MODIFIED:20181228T130338Z
UID:251-1565308800-1565481599@blog.mascus.ee
SUMMARY:Power Truck Show
DESCRIPTION:Ana Maria JurcaCommunications Specialist & Social Media Manager at Mascus
URL:https://blog.mascus.ee/fair/power-truck-show/
LOCATION:FI\, Finland
CATEGORIES:Transport
END:VEVENT
BEGIN:VEVENT
DTSTART;VALUE=DATE:20190815
DTEND;VALUE=DATE:20190819
DTSTAMP:20260422T091709
CREATED:20181228T130354Z
LAST-MODIFIED:20181228T130354Z
UID:279-1565827200-1566172799@blog.mascus.ee
SUMMARY:XXVIII. Farmer-Expo Debrecen
DESCRIPTION:Ana Maria JurcaCommunications Specialist & Social Media Manager at Mascus
URL:https://blog.mascus.ee/fair/xxviii-farmer-expo-debrecen/
LOCATION:HU\, Hungary
CATEGORIES:Agriculture
END:VEVENT
BEGIN:VEVENT
DTSTART;VALUE=DATE:20190816
DTEND;VALUE=DATE:20190818
DTSTAMP:20260422T091709
CREATED:20181228T130422Z
LAST-MODIFIED:20181228T130422Z
UID:325-1565913600-1566086399@blog.mascus.ee
SUMMARY:Mittia
DESCRIPTION:Ana Maria JurcaCommunications Specialist & Social Media Manager at Mascus
URL:https://blog.mascus.ee/fair/mittia/
LOCATION:SE\, Sweden
CATEGORIES:Forestry,Transport
END:VEVENT
BEGIN:VEVENT
DTSTART;VALUE=DATE:20190822
DTEND;VALUE=DATE:20190828
DTSTAMP:20260422T091709
CREATED:20181228T130335Z
LAST-MODIFIED:20181228T130335Z
UID:248-1566432000-1566950399@blog.mascus.ee
SUMMARY:Země živitelka
DESCRIPTION:Ana Maria JurcaCommunications Specialist & Social Media Manager at Mascus
URL:https://blog.mascus.ee/fair/zeme-zivitelka/
LOCATION:CZ\, Czech Republic
CATEGORIES:Agriculture
END:VEVENT
BEGIN:VEVENT
DTSTART;VALUE=DATE:20190824
DTEND;VALUE=DATE:20190830
DTSTAMP:20260422T091709
CREATED:20181228T130420Z
LAST-MODIFIED:20181228T130420Z
UID:322-1566604800-1567123199@blog.mascus.ee
SUMMARY:AGRA Mednarodni kmetijsko-živiljski sejem 2019
DESCRIPTION:Ana Maria JurcaCommunications Specialist & Social Media Manager at Mascus
URL:https://blog.mascus.ee/fair/agra-mednarodni-kmetijsko-ziviljski-sejem-2019/
LOCATION:SI\, Slovenia
CATEGORIES:Agriculture
END:VEVENT
BEGIN:VEVENT
DTSTART;VALUE=DATE:20190829
DTEND;VALUE=DATE:20190901
DTSTAMP:20260422T091709
CREATED:20181228T130421Z
LAST-MODIFIED:20181228T130421Z
UID:323-1567036800-1567295999@blog.mascus.ee
SUMMARY:Load Up North
DESCRIPTION:Ana Maria JurcaCommunications Specialist & Social Media Manager at Mascus
URL:https://blog.mascus.ee/fair/load-up-north/
LOCATION:SE\, Sweden
CATEGORIES:Construction,Transport
END:VEVENT
END:VCALENDAR