BEGIN:VCALENDAR
VERSION:2.0
PRODID:-//Mascus Blog Eesti - ECPv6.15.17//NONSGML v1.0//EN
CALSCALE:GREGORIAN
METHOD:PUBLISH
X-ORIGINAL-URL:https://blog.mascus.ee
X-WR-CALDESC:Events for Mascus Blog Eesti
REFRESH-INTERVAL;VALUE=DURATION:PT1H
X-Robots-Tag:noindex
X-PUBLISHED-TTL:PT1H
BEGIN:VTIMEZONE
TZID:UTC
BEGIN:STANDARD
TZOFFSETFROM:+0000
TZOFFSETTO:+0000
TZNAME:UTC
DTSTART:20180101T000000
END:STANDARD
END:VTIMEZONE
BEGIN:VEVENT
DTSTART;VALUE=DATE:20190603
DTEND;VALUE=DATE:20190606
DTSTAMP:20260422T124602
CREATED:20181228T130333Z
LAST-MODIFIED:20181228T130333Z
UID:244-1559520000-1559779199@blog.mascus.ee
SUMMARY:Shanghai International Construction Machinery Expo 2019
DESCRIPTION:Ana Maria JurcaCommunications Specialist & Social Media Manager at Mascus
URL:https://blog.mascus.ee/fair/shanghai-international-construction-machinery-expo-2019/
LOCATION:CN\, China
CATEGORIES:Construction
END:VEVENT
BEGIN:VEVENT
DTSTART;VALUE=DATE:20190604
DTEND;VALUE=DATE:20190708
DTSTAMP:20260422T124602
CREATED:20181228T130413Z
LAST-MODIFIED:20181228T130413Z
UID:311-1559606400-1562543999@blog.mascus.ee
SUMMARY:STT Bauma (Moscow)
DESCRIPTION:Ana Maria JurcaCommunications Specialist & Social Media Manager at Mascus
URL:https://blog.mascus.ee/fair/stt-bauma-moscow/
LOCATION:RU\, Russia
CATEGORIES:Construction
END:VEVENT
BEGIN:VEVENT
DTSTART;VALUE=DATE:20190604
DTEND;VALUE=DATE:20190610
DTSTAMP:20260422T124602
CREATED:20181228T130414Z
LAST-MODIFIED:20181228T130414Z
UID:314-1559606400-1560124799@blog.mascus.ee
SUMMARY:Belagro (Minsk)
DESCRIPTION:Ana Maria JurcaCommunications Specialist & Social Media Manager at Mascus
URL:https://blog.mascus.ee/fair/belagro-minsk/
LOCATION:RU\, Russia
CATEGORIES:Agriculture
END:VEVENT
BEGIN:VEVENT
DTSTART;VALUE=DATE:20190606
DTEND;VALUE=DATE:20190609
DTSTAMP:20260422T124602
CREATED:20181228T130423Z
LAST-MODIFIED:20181228T130423Z
UID:326-1559779200-1560038399@blog.mascus.ee
SUMMARY:Skogselmia
DESCRIPTION:Ana Maria JurcaCommunications Specialist & Social Media Manager at Mascus
URL:https://blog.mascus.ee/fair/skogselmia/
LOCATION:SE\, Sweden
CATEGORIES:Forestry
END:VEVENT
BEGIN:VEVENT
DTSTART;VALUE=DATE:20190606
DTEND;VALUE=DATE:20190609
DTSTAMP:20260422T124602
CREATED:20181228T130428Z
LAST-MODIFIED:20181228T130428Z
UID:334-1559779200-1560038399@blog.mascus.ee
SUMMARY:Royal Cornwall Show 2019
DESCRIPTION:Ana Maria JurcaCommunications Specialist & Social Media Manager at Mascus
URL:https://blog.mascus.ee/fair/royal-cornwall-show-2019/
LOCATION:UK\, United Kingdom
CATEGORIES:Agriculture,Construction,Transport
END:VEVENT
BEGIN:VEVENT
DTSTART;VALUE=DATE:20190611
DTEND;VALUE=DATE:20190614
DTSTAMP:20260422T124602
CREATED:20181228T130425Z
LAST-MODIFIED:20181228T130425Z
UID:330-1560211200-1560470399@blog.mascus.ee
SUMMARY:Plantworx 2019
DESCRIPTION:Ana Maria JurcaCommunications Specialist & Social Media Manager at Mascus
URL:https://blog.mascus.ee/fair/plantworx-2019/
LOCATION:UK\, United Kingdom
CATEGORIES:Construction
END:VEVENT
BEGIN:VEVENT
DTSTART;VALUE=DATE:20190612
DTEND;VALUE=DATE:20190616
DTSTAMP:20260422T124602
CREATED:20181228T130349Z
LAST-MODIFIED:20181228T130349Z
UID:269-1560297600-1560643199@blog.mascus.ee
SUMMARY:Tarmstedter Landtage
DESCRIPTION:Ana Maria JurcaCommunications Specialist & Social Media Manager at Mascus
URL:https://blog.mascus.ee/fair/tarmstedter-landtage/
LOCATION:DE\, Germany
CATEGORIES:Agriculture
END:VEVENT
BEGIN:VEVENT
DTSTART;VALUE=DATE:20190613
DTEND;VALUE=DATE:20190617
DTSTAMP:20260422T124602
CREATED:20181228T130405Z
LAST-MODIFIED:20181228T130405Z
UID:298-1560384000-1560729599@blog.mascus.ee
SUMMARY:NNBA - Nordnorsk Bygg- og Anleggsmesse 2019
DESCRIPTION:Ana Maria JurcaCommunications Specialist & Social Media Manager at Mascus
URL:https://blog.mascus.ee/fair/nnba-nordnorsk-bygg-og-anleggsmesse-2019/
LOCATION:NO\, Norway
CATEGORIES:Construction
END:VEVENT
BEGIN:VEVENT
DTSTART;VALUE=DATE:20190620
DTEND;VALUE=DATE:20190624
DTSTAMP:20260422T124602
CREATED:20181228T130427Z
LAST-MODIFIED:20181228T130427Z
UID:333-1560988800-1561334399@blog.mascus.ee
SUMMARY:Royal Highland Show
DESCRIPTION:Ana Maria JurcaCommunications Specialist & Social Media Manager at Mascus
URL:https://blog.mascus.ee/fair/royal-highland-show/
LOCATION:UK\, United Kingdom
CATEGORIES:Agriculture
END:VEVENT
BEGIN:VEVENT
DTSTART;VALUE=DATE:20190623
DTEND;VALUE=DATE:20190626
DTSTAMP:20260422T124602
CREATED:20181228T130352Z
LAST-MODIFIED:20181228T130352Z
UID:276-1561248000-1561507199@blog.mascus.ee
SUMMARY:Demo Park
DESCRIPTION:Ana Maria JurcaCommunications Specialist & Social Media Manager at Mascus
URL:https://blog.mascus.ee/fair/demo-park/
LOCATION:DE\, Germany
CATEGORIES:Construction
END:VEVENT
BEGIN:VEVENT
DTSTART;VALUE=DATE:20190626
DTEND;VALUE=DATE:20190630
DTSTAMP:20260422T124602
CREATED:20181228T130401Z
LAST-MODIFIED:20181228T130401Z
UID:290-1561507200-1561852799@blog.mascus.ee
SUMMARY:Agrovizija
DESCRIPTION:Ana Maria JurcaCommunications Specialist & Social Media Manager at Mascus
URL:https://blog.mascus.ee/fair/agrovizija/
LOCATION:LT\, Lithuania
CATEGORIES:Agriculture
END:VEVENT
BEGIN:VEVENT
DTSTART;VALUE=DATE:20190627
DTEND;VALUE=DATE:20190630
DTSTAMP:20260422T124602
CREATED:20181228T130334Z
LAST-MODIFIED:20181228T130334Z
UID:245-1561593600-1561852799@blog.mascus.ee
SUMMARY:The 2th China(Tianjin)International Logistics Expo
DESCRIPTION:Ana Maria JurcaCommunications Specialist & Social Media Manager at Mascus
URL:https://blog.mascus.ee/fair/the-2th-chinatianjininternational-logistics-expo/
LOCATION:CN\, China
CATEGORIES:Transport
END:VEVENT
END:VCALENDAR