BEGIN:VCALENDAR
VERSION:2.0
PRODID:-//Mascus Blog Eesti - ECPv6.15.17//NONSGML v1.0//EN
CALSCALE:GREGORIAN
METHOD:PUBLISH
X-WR-CALNAME:Mascus Blog Eesti
X-ORIGINAL-URL:https://blog.mascus.ee
X-WR-CALDESC:Events for Mascus Blog Eesti
REFRESH-INTERVAL;VALUE=DURATION:PT1H
X-Robots-Tag:noindex
X-PUBLISHED-TTL:PT1H
BEGIN:VTIMEZONE
TZID:UTC
BEGIN:STANDARD
TZOFFSETFROM:+0000
TZOFFSETTO:+0000
TZNAME:UTC
DTSTART:20180101T000000
END:STANDARD
END:VTIMEZONE
BEGIN:VEVENT
DTSTART;VALUE=DATE:20190509
DTEND;VALUE=DATE:20190512
DTSTAMP:20260422T143041
CREATED:20181228T130337Z
LAST-MODIFIED:20181228T130337Z
UID:250-1557360000-1557619199@blog.mascus.ee
SUMMARY:Kuljetus ja Logistiikka 2019
DESCRIPTION:Ana Maria JurcaCommunications Specialist & Social Media Manager at Mascus
URL:https://blog.mascus.ee/fair/kuljetus-ja-logistiikka-2019/
LOCATION:FI\, Finland
CATEGORIES:Transport
END:VEVENT
BEGIN:VEVENT
DTSTART;VALUE=DATE:20190509
DTEND;VALUE=DATE:20190513
DTSTAMP:20260422T143041
CREATED:20181228T130351Z
LAST-MODIFIED:20181228T130351Z
UID:274-1557360000-1557705599@blog.mascus.ee
SUMMARY:BraLa Landwirtschaftsmesse
DESCRIPTION:Ana Maria JurcaCommunications Specialist & Social Media Manager at Mascus
URL:https://blog.mascus.ee/fair/brala-landwirtschaftsmesse/
LOCATION:DE\, Germany
CATEGORIES:Agriculture
END:VEVENT
BEGIN:VEVENT
DTSTART;VALUE=DATE:20190510
DTEND;VALUE=DATE:20190513
DTSTAMP:20260422T143041
CREATED:20181228T130401Z
LAST-MODIFIED:20181228T130401Z
UID:292-1557446400-1557705599@blog.mascus.ee
SUMMARY:Baltijos miškai
DESCRIPTION:Ana Maria JurcaCommunications Specialist & Social Media Manager at Mascus
URL:https://blog.mascus.ee/fair/baltijos-miskai/
LOCATION:LT\, Lithuania
CATEGORIES:Forestry
END:VEVENT
BEGIN:VEVENT
DTSTART;VALUE=DATE:20190510
DTEND;VALUE=DATE:20190513
DTSTAMP:20260422T143041
CREATED:20181228T130404Z
LAST-MODIFIED:20181228T130404Z
UID:297-1557446400-1557705599@blog.mascus.ee
SUMMARY:MEFA 2019
DESCRIPTION:Ana Maria JurcaCommunications Specialist & Social Media Manager at Mascus
URL:https://blog.mascus.ee/fair/mefa-2019/
LOCATION:NO\, Norway
CATEGORIES:Construction
END:VEVENT
BEGIN:VEVENT
DTSTART;VALUE=DATE:20190514
DTEND;VALUE=DATE:20190517
DTSTAMP:20260422T143041
CREATED:20181228T130409Z
LAST-MODIFIED:20181228T130409Z
UID:306-1557792000-1558051199@blog.mascus.ee
SUMMARY:Autostrada - Polska
DESCRIPTION:Ana Maria JurcaCommunications Specialist & Social Media Manager at Mascus
URL:https://blog.mascus.ee/fair/autostrada-polska/
LOCATION:PL\, Poland
CATEGORIES:Construction
END:VEVENT
BEGIN:VEVENT
DTSTART;VALUE=DATE:20190523
DTEND;VALUE=DATE:20190526
DTSTAMP:20260422T143041
CREATED:20181228T130422Z
LAST-MODIFIED:20181228T130422Z
UID:324-1558569600-1558828799@blog.mascus.ee
SUMMARY:Maskinexpo
DESCRIPTION:Ana Maria JurcaCommunications Specialist & Social Media Manager at Mascus
URL:https://blog.mascus.ee/fair/maskinexpo/
LOCATION:SE\, Sweden
CATEGORIES:Construction
END:VEVENT
BEGIN:VEVENT
DTSTART;VALUE=DATE:20190525
DTEND;VALUE=DATE:20190527
DTSTAMP:20260422T143041
CREATED:20181228T130410Z
LAST-MODIFIED:20181228T130410Z
UID:307-1558742400-1558915199@blog.mascus.ee
SUMMARY:Zielone Agroshow
DESCRIPTION:Ana Maria JurcaCommunications Specialist & Social Media Manager at Mascus
URL:https://blog.mascus.ee/fair/zielone-agroshow/
LOCATION:PL\, Poland
CATEGORIES:Agriculture
END:VEVENT
BEGIN:VEVENT
DTSTART;VALUE=DATE:20190528
DTEND;VALUE=DATE:20190531
DTSTAMP:20260422T143041
CREATED:20181228T130332Z
LAST-MODIFIED:20181228T130332Z
UID:242-1559001600-1559260799@blog.mascus.ee
SUMMARY:The 13th China linyi construction machinery and heavy truck exhibition in 2018
DESCRIPTION:Ana Maria JurcaCommunications Specialist & Social Media Manager at Mascus
URL:https://blog.mascus.ee/fair/the-13th-china-linyi-construction-machinery-and-heavy-truck-exhibition-in-2018/
LOCATION:CN\, China
CATEGORIES:Construction
END:VEVENT
BEGIN:VEVENT
DTSTART;VALUE=DATE:20190529
DTEND;VALUE=DATE:20190601
DTSTAMP:20260422T143041
CREATED:20181228T130331Z
LAST-MODIFIED:20181228T130331Z
UID:241-1559088000-1559347199@blog.mascus.ee
SUMMARY:China(Beijing)Internationg mining Expo 2019
DESCRIPTION:Ana Maria JurcaCommunications Specialist & Social Media Manager at Mascus
URL:https://blog.mascus.ee/fair/chinabeijinginternationg-mining-expo-2019/
LOCATION:CN\, China
CATEGORIES:Construction
END:VEVENT
BEGIN:VEVENT
DTSTART;VALUE=DATE:20190529
DTEND;VALUE=DATE:20190530
DTSTAMP:20260422T143041
CREATED:20181228T130332Z
LAST-MODIFIED:20181228T130332Z
UID:243-1559088000-1559174399@blog.mascus.ee
SUMMARY:2019 China International Logistics Equipment & Technology Exhibition (Guangzhou)
DESCRIPTION:Ana Maria JurcaCommunications Specialist & Social Media Manager at Mascus
URL:https://blog.mascus.ee/fair/2019-china-international-logistics-equipment-technology-exhibition-guangzhou/
LOCATION:CN\, China
CATEGORIES:Transport
END:VEVENT
END:VCALENDAR