BEGIN:VCALENDAR
VERSION:2.0
PRODID:-//Mascus Blog Eesti - ECPv6.15.17//NONSGML v1.0//EN
CALSCALE:GREGORIAN
METHOD:PUBLISH
X-WR-CALNAME:Mascus Blog Eesti
X-ORIGINAL-URL:https://blog.mascus.ee
X-WR-CALDESC:Events for Mascus Blog Eesti
REFRESH-INTERVAL;VALUE=DURATION:PT1H
X-Robots-Tag:noindex
X-PUBLISHED-TTL:PT1H
BEGIN:VTIMEZONE
TZID:UTC
BEGIN:STANDARD
TZOFFSETFROM:+0000
TZOFFSETTO:+0000
TZNAME:UTC
DTSTART:20180101T000000
END:STANDARD
END:VTIMEZONE
BEGIN:VEVENT
DTSTART;VALUE=DATE:20190226
DTEND;VALUE=DATE:20190301
DTSTAMP:20260421T053820
CREATED:20181228T130330Z
LAST-MODIFIED:20181228T130330Z
UID:239-1551139200-1551398399@blog.mascus.ee
SUMMARY:2019 The 14th China(Shandong)International Agricultural Machinery Exhibition
DESCRIPTION:Ana Maria JurcaCommunications Specialist & Social Media Manager at Mascus
URL:https://blog.mascus.ee/fair/2019-the-14th-chinashandonginternational-agricultural-machinery-exhibition/
LOCATION:CN\, China
CATEGORIES:Agriculture
END:VEVENT
BEGIN:VEVENT
DTSTART;VALUE=DATE:20190224
DTEND;VALUE=DATE:20190301
DTSTAMP:20260421T053820
CREATED:20181228T130340Z
LAST-MODIFIED:20181228T130340Z
UID:254-1550966400-1551398399@blog.mascus.ee
SUMMARY:SIMA
DESCRIPTION:Ana Maria JurcaCommunications Specialist & Social Media Manager at Mascus
URL:https://blog.mascus.ee/fair/sima/
LOCATION:FR\, France
CATEGORIES:Agriculture
END:VEVENT
BEGIN:VEVENT
DTSTART;VALUE=DATE:20190221
DTEND;VALUE=DATE:20190225
DTSTAMP:20260421T053820
CREATED:20181228T130355Z
LAST-MODIFIED:20181228T130355Z
UID:281-1550707200-1551052799@blog.mascus.ee
SUMMARY:Transpotec
DESCRIPTION:Ana Maria JurcaCommunications Specialist & Social Media Manager at Mascus
URL:https://blog.mascus.ee/fair/transpotec/
LOCATION:IT\, Italy
CATEGORIES:Transport
END:VEVENT
BEGIN:VEVENT
DTSTART;VALUE=DATE:20190219
DTEND;VALUE=DATE:20190223
DTSTAMP:20260421T053820
CREATED:20181228T130343Z
LAST-MODIFIED:20181228T130343Z
UID:259-1550534400-1550879999@blog.mascus.ee
SUMMARY:VDBUM Großseminar
DESCRIPTION:Ana Maria JurcaCommunications Specialist & Social Media Manager at Mascus
URL:https://blog.mascus.ee/fair/vdbum-grosseminar/
LOCATION:DE\, Germany
CATEGORIES:Construction
END:VEVENT
BEGIN:VEVENT
DTSTART;VALUE=DATE:20190219
DTEND;VALUE=DATE:20190222
DTSTAMP:20260421T053820
CREATED:20181228T130342Z
LAST-MODIFIED:20181228T130342Z
UID:258-1550534400-1550793599@blog.mascus.ee
SUMMARY:LogiMAT
DESCRIPTION:Ana Maria JurcaCommunications Specialist & Social Media Manager at Mascus
URL:https://blog.mascus.ee/fair/logimat/
LOCATION:DE\, Germany
CATEGORIES:Material Handling
END:VEVENT
BEGIN:VEVENT
DTSTART;VALUE=DATE:20190215
DTEND;VALUE=DATE:20190218
DTSTAMP:20260421T053820
CREATED:20181228T130353Z
LAST-MODIFIED:20181228T130353Z
UID:277-1550188800-1550447999@blog.mascus.ee
SUMMARY:Elec-tec
DESCRIPTION:Ana Maria JurcaCommunications Specialist & Social Media Manager at Mascus
URL:https://blog.mascus.ee/fair/elec-tec/
LOCATION:GR\, Greece
CATEGORIES:Material Handling
END:VEVENT
BEGIN:VEVENT
DTSTART;VALUE=DATE:20190215
DTEND;VALUE=DATE:20190218
DTSTAMP:20260421T053820
CREATED:20181228T130349Z
LAST-MODIFIED:20181228T130349Z
UID:270-1550188800-1550447999@blog.mascus.ee
SUMMARY:Abbruchtage Berlin
DESCRIPTION:Ana Maria JurcaCommunications Specialist & Social Media Manager at Mascus
URL:https://blog.mascus.ee/fair/abbruchtage-berlin/
LOCATION:DE\, Germany
CATEGORIES:Construcion
END:VEVENT
BEGIN:VEVENT
DTSTART;VALUE=DATE:20190209
DTEND;VALUE=DATE:20190211
DTSTAMP:20260421T053820
CREATED:20181228T130408Z
LAST-MODIFIED:20181228T130408Z
UID:303-1549670400-1549843199@blog.mascus.ee
SUMMARY:Mazurskie Agroshow
DESCRIPTION:Ana Maria JurcaCommunications Specialist & Social Media Manager at Mascus
URL:https://blog.mascus.ee/fair/mazurskie-agroshow/
LOCATION:PL\, Poland
CATEGORIES:Agriculture
END:VEVENT
BEGIN:VEVENT
DTSTART;VALUE=DATE:20190207
DTEND;VALUE=DATE:20190211
DTSTAMP:20260421T053820
CREATED:20181228T130341Z
LAST-MODIFIED:20181228T130341Z
UID:257-1549497600-1549843199@blog.mascus.ee
SUMMARY:Baumag
DESCRIPTION:Ana Maria JurcaCommunications Specialist & Social Media Manager at Mascus
URL:https://blog.mascus.ee/fair/baumag/
LOCATION:DE\, Germany
CATEGORIES:Construction
END:VEVENT
BEGIN:VEVENT
DTSTART;VALUE=DATE:20190201
DTEND;VALUE=DATE:20190204
DTSTAMP:20260421T053820
CREATED:20181228T130407Z
LAST-MODIFIED:20181228T130407Z
UID:302-1548979200-1549238399@blog.mascus.ee
SUMMARY:Centralne Targi Rolnicze
DESCRIPTION:Ana Maria JurcaCommunications Specialist & Social Media Manager at Mascus
URL:https://blog.mascus.ee/fair/centralne-targi-rolnicze/
LOCATION:PL\, Poland
CATEGORIES:Agriculture
END:VEVENT
BEGIN:VEVENT
DTSTART;VALUE=DATE:20190124
DTEND;VALUE=DATE:20190128
DTSTAMP:20260421T053820
CREATED:20181228T130355Z
LAST-MODIFIED:20181228T130355Z
UID:280-1548288000-1548633599@blog.mascus.ee
SUMMARY:Agriest
DESCRIPTION:Ana Maria JurcaCommunications Specialist & Social Media Manager at Mascus
URL:https://blog.mascus.ee/fair/agriest/
LOCATION:IT\, Italy
CATEGORIES:Agriculture
END:VEVENT
BEGIN:VEVENT
DTSTART;VALUE=DATE:20190122
DTEND;VALUE=DATE:20190125
DTSTAMP:20260421T053820
CREATED:20181228T130404Z
LAST-MODIFIED:20181228T130404Z
UID:296-1548115200-1548374399@blog.mascus.ee
SUMMARY:Artic Entrepreneur 2019
DESCRIPTION:Ana Maria JurcaCommunications Specialist & Social Media Manager at Mascus
URL:https://blog.mascus.ee/fair/artic-entrepreneur-2019/
LOCATION:NO\, Norway
CATEGORIES:Construction
END:VEVENT
BEGIN:VEVENT
DTSTART;VALUE=DATE:20190122
DTEND;VALUE=DATE:20190126
DTSTAMP:20260421T053820
CREATED:20181228T130350Z
LAST-MODIFIED:20181228T130350Z
UID:272-1548115200-1548460799@blog.mascus.ee
SUMMARY:IPM Essen
DESCRIPTION:Ana Maria JurcaCommunications Specialist & Social Media Manager at Mascus
URL:https://blog.mascus.ee/fair/ipm-essen/
LOCATION:DE\, Germany
CATEGORIES:Construction
END:VEVENT
BEGIN:VEVENT
DTSTART;VALUE=DATE:20190110
DTEND;VALUE=DATE:20190114
DTSTAMP:20260421T053820
CREATED:20181228T130326Z
LAST-MODIFIED:20181228T130326Z
UID:234-1547078400-1547423999@blog.mascus.ee
SUMMARY:Agri Flanders
DESCRIPTION:Ana Maria JurcaCommunications Specialist & Social Media Manager at Mascus
URL:https://blog.mascus.ee/fair/agri-flanders/
LOCATION:BE\, Belgium
CATEGORIES:Agriculture
END:VEVENT
BEGIN:VEVENT
DTSTART;VALUE=DATE:20190108
DTEND;VALUE=DATE:20190110
DTSTAMP:20260421T053820
CREATED:20181228T130425Z
LAST-MODIFIED:20181228T130425Z
UID:329-1546905600-1547078399@blog.mascus.ee
SUMMARY:Lamma Agri Show
DESCRIPTION:Ana Maria JurcaCommunications Specialist & Social Media Manager at Mascus
URL:https://blog.mascus.ee/fair/lamma-agri-show/
LOCATION:UK\, United Kingdom
CATEGORIES:Agriculture
END:VEVENT
END:VCALENDAR