BEGIN:VCALENDAR
VERSION:2.0
PRODID:-//Mascus Blog Eesti - ECPv6.15.17//NONSGML v1.0//EN
CALSCALE:GREGORIAN
METHOD:PUBLISH
X-ORIGINAL-URL:https://blog.mascus.ee
X-WR-CALDESC:Events for Mascus Blog Eesti
REFRESH-INTERVAL;VALUE=DURATION:PT1H
X-Robots-Tag:noindex
X-PUBLISHED-TTL:PT1H
BEGIN:VTIMEZONE
TZID:UTC
BEGIN:STANDARD
TZOFFSETFROM:+0000
TZOFFSETTO:+0000
TZNAME:UTC
DTSTART:20210101T000000
END:STANDARD
END:VTIMEZONE
BEGIN:VEVENT
DTSTART;VALUE=DATE:20221019
DTEND;VALUE=DATE:20221022
DTSTAMP:20260421T192459
CREATED:20220223T125939Z
LAST-MODIFIED:20220223T125939Z
UID:1233-1666137600-1666396799@blog.mascus.ee
SUMMARY:Poleko
DESCRIPTION:Ana Maria JurcaCommunications Specialist & Social Media Manager at Mascus
URL:https://blog.mascus.ee/fair/poleko/
LOCATION:PL\, Poland
CATEGORIES:Groundscare
ATTACH;FMTTYPE=image/jpeg:https://blog.mascus.ee/wp-content/uploads/sites/20/2019/12/stand_banner_10601.jpg
END:VEVENT
BEGIN:VEVENT
DTSTART;VALUE=DATE:20221024
DTEND;VALUE=DATE:20221031
DTSTAMP:20260421T192459
CREATED:20220223T125324Z
LAST-MODIFIED:20220223T125324Z
UID:1208-1666569600-1667174399@blog.mascus.ee
SUMMARY:BAUMA
DESCRIPTION:Ana Maria JurcaCommunications Specialist & Social Media Manager at Mascus
URL:https://blog.mascus.ee/fair/bauma-2/
LOCATION:DE\, Germany
CATEGORIES:Construction
ATTACH;FMTTYPE=image/jpeg:https://blog.mascus.ee/wp-content/uploads/sites/20/2019/12/stand_banner_10601.jpg
END:VEVENT
BEGIN:VEVENT
DTSTART;VALUE=DATE:20221108
DTEND;VALUE=DATE:20221112
DTSTAMP:20260421T192459
CREATED:20220223T125324Z
LAST-MODIFIED:20220223T125324Z
UID:1209-1667865600-1668211199@blog.mascus.ee
SUMMARY:Ecomondo
DESCRIPTION:Ana Maria JurcaCommunications Specialist & Social Media Manager at Mascus
URL:https://blog.mascus.ee/fair/ecomondo-3/
LOCATION:IT\, Italy
CATEGORIES:Environmental,Material Handling
ATTACH;FMTTYPE=image/jpeg:https://blog.mascus.ee/wp-content/uploads/sites/20/2019/12/stand_banner_10601.jpg
END:VEVENT
BEGIN:VEVENT
DTSTART;VALUE=DATE:20221122
DTEND;VALUE=DATE:20221126
DTSTAMP:20260421T192459
CREATED:20220223T125502Z
LAST-MODIFIED:20220223T125502Z
UID:1219-1669075200-1669420799@blog.mascus.ee
SUMMARY:YugAgro
DESCRIPTION:Ana Maria JurcaCommunications Specialist & Social Media Manager at Mascus
URL:https://blog.mascus.ee/fair/yugagro/
LOCATION:RU\, Russia
CATEGORIES:Agriculture
ATTACH;FMTTYPE=image/jpeg:https://blog.mascus.ee/wp-content/uploads/sites/20/2019/12/stand_banner_10601.jpg
END:VEVENT
BEGIN:VEVENT
DTSTART;VALUE=DATE:20221122
DTEND;VALUE=DATE:20221126
DTSTAMP:20260421T192459
CREATED:20220223T130341Z
LAST-MODIFIED:20220223T130341Z
UID:1244-1669075200-1669420799@blog.mascus.ee
SUMMARY:bauma CHINA
DESCRIPTION:Ana Maria JurcaCommunications Specialist & Social Media Manager at Mascus
URL:https://blog.mascus.ee/fair/bauma-china-2/
LOCATION:CN\, China
CATEGORIES:Construction
ATTACH;FMTTYPE=image/jpeg:https://blog.mascus.ee/wp-content/uploads/sites/20/2019/12/stand_banner_10601.jpg
END:VEVENT
BEGIN:VEVENT
DTSTART;VALUE=DATE:20221205
DTEND;VALUE=DATE:20221209
DTSTAMP:20260421T192459
CREATED:20220223T125331Z
LAST-MODIFIED:20220223T125331Z
UID:1215-1670198400-1670543999@blog.mascus.ee
SUMMARY:The Big 5
DESCRIPTION:Ana Maria JurcaCommunications Specialist & Social Media Manager at Mascus
URL:https://blog.mascus.ee/fair/the-big-5/
LOCATION:UAE\, United Arab Emirates
CATEGORIES:Construction
ATTACH;FMTTYPE=image/jpeg:https://blog.mascus.ee/wp-content/uploads/sites/20/2019/12/stand_banner_10601.jpg
END:VEVENT
END:VCALENDAR