BEGIN:VCALENDAR
VERSION:2.0
PRODID:-//Mascus Blog Eesti - ECPv6.15.17//NONSGML v1.0//EN
CALSCALE:GREGORIAN
METHOD:PUBLISH
X-WR-CALNAME:Mascus Blog Eesti
X-ORIGINAL-URL:https://blog.mascus.ee
X-WR-CALDESC:Events for Mascus Blog Eesti
REFRESH-INTERVAL;VALUE=DURATION:PT1H
X-Robots-Tag:noindex
X-PUBLISHED-TTL:PT1H
BEGIN:VTIMEZONE
TZID:UTC
BEGIN:STANDARD
TZOFFSETFROM:+0000
TZOFFSETTO:+0000
TZNAME:UTC
DTSTART:20180101T000000
END:STANDARD
END:VTIMEZONE
BEGIN:VEVENT
DTSTART;VALUE=DATE:20200403
DTEND;VALUE=DATE:20200404
DTSTAMP:20260421T034312
CREATED:20191223T104709Z
LAST-MODIFIED:20191223T104709Z
UID:539-1585872000-1585958399@blog.mascus.ee
SUMMARY:FarmExpo 2020
DESCRIPTION:Ana Maria JurcaCommunications Specialist & Social Media Manager at Mascus
URL:https://blog.mascus.ee/fair/farmexpo-2020/
LOCATION:UK\, United Kingdom
CATEGORIES:Agriculture
ATTACH;FMTTYPE=image/jpeg:https://blog.mascus.ee/wp-content/uploads/sites/20/2019/12/stand_banner_10601.jpg
END:VEVENT
BEGIN:VEVENT
DTSTART;VALUE=DATE:20200401
DTEND;VALUE=DATE:20200404
DTSTAMP:20260421T034312
CREATED:20200207T082507Z
LAST-MODIFIED:20200207T083115Z
UID:641-1585699200-1585958399@blog.mascus.ee
SUMMARY:Spring Construction Forum 2020
DESCRIPTION:Ana Maria JurcaCommunications Specialist & Social Media Manager at Mascus
URL:https://blog.mascus.ee/fair/spring-construction-forum-2020/
LOCATION:UA\, Ukraine
CATEGORIES:Construction
END:VEVENT
BEGIN:VEVENT
DTSTART;VALUE=DATE:20200318
DTEND;VALUE=DATE:20200320
DTSTAMP:20260421T034312
CREATED:20191223T104705Z
LAST-MODIFIED:20191223T104705Z
UID:531-1584489600-1584662399@blog.mascus.ee
SUMMARY:Personløfter - og utleiekonferansen 2020
DESCRIPTION:Ana Maria JurcaCommunications Specialist & Social Media Manager at Mascus
URL:https://blog.mascus.ee/fair/personlofter-og-utleiekonferansen-2020/
LOCATION:NO\, Norway
CATEGORIES:Construction
ATTACH;FMTTYPE=image/jpeg:https://blog.mascus.ee/wp-content/uploads/sites/20/2019/12/stand_banner_10601.jpg
END:VEVENT
BEGIN:VEVENT
DTSTART;VALUE=DATE:20200303
DTEND;VALUE=DATE:20200306
DTSTAMP:20260421T034312
CREATED:20191223T104703Z
LAST-MODIFIED:20191223T104703Z
UID:528-1583193600-1583452799@blog.mascus.ee
SUMMARY:Agrotehnika
DESCRIPTION:Ana Maria JurcaCommunications Specialist & Social Media Manager at Mascus
URL:https://blog.mascus.ee/fair/agrotehnika/
LOCATION:UA\, Ukraine
CATEGORIES:Agriculture
ATTACH;FMTTYPE=image/jpeg:https://blog.mascus.ee/wp-content/uploads/sites/20/2019/12/stand_banner_10601.jpg
END:VEVENT
BEGIN:VEVENT
DTSTART;VALUE=DATE:20200229
DTEND;VALUE=DATE:20200302
DTSTAMP:20260421T034312
CREATED:20191223T104702Z
LAST-MODIFIED:20191223T104702Z
UID:527-1582934400-1583107199@blog.mascus.ee
SUMMARY:Agro-Park
DESCRIPTION:Ana Maria JurcaCommunications Specialist & Social Media Manager at Mascus
URL:https://blog.mascus.ee/fair/agro-park/
LOCATION:PL\, Poland
CATEGORIES:Agriculture
ATTACH;FMTTYPE=image/jpeg:https://blog.mascus.ee/wp-content/uploads/sites/20/2019/12/stand_banner_10601.jpg
END:VEVENT
BEGIN:VEVENT
DTSTART;VALUE=DATE:20200206
DTEND;VALUE=DATE:20200209
DTSTAMP:20260421T034312
CREATED:20191223T104701Z
LAST-MODIFIED:20191223T104701Z
UID:525-1580947200-1581206399@blog.mascus.ee
SUMMARY:Expojardim Porto / Urbangarden - Feira Nacional de Ambiente Urbano
DESCRIPTION:Ana Maria JurcaCommunications Specialist & Social Media Manager at Mascus
URL:https://blog.mascus.ee/fair/expojardim-porto-urbangarden-feira-nacional-de-ambiente-urbano/
LOCATION:PT\, Portugal
CATEGORIES:Agriculture,Groundscare
ATTACH;FMTTYPE=image/jpeg:https://blog.mascus.ee/wp-content/uploads/sites/20/2019/12/stand_banner_10601.jpg
END:VEVENT
BEGIN:VEVENT
DTSTART;VALUE=DATE:20200204
DTEND;VALUE=DATE:20200208
DTSTAMP:20260421T034312
CREATED:20191223T104659Z
LAST-MODIFIED:20191223T104659Z
UID:523-1580774400-1581119999@blog.mascus.ee
SUMMARY:Intermasz
DESCRIPTION:Ana Maria JurcaCommunications Specialist & Social Media Manager at Mascus
URL:https://blog.mascus.ee/fair/intermasz/
LOCATION:PL\, Poland
CATEGORIES:Construction
ATTACH;FMTTYPE=image/jpeg:https://blog.mascus.ee/wp-content/uploads/sites/20/2019/12/stand_banner_10601.jpg
END:VEVENT
BEGIN:VEVENT
DTSTART;VALUE=DATE:20200131
DTEND;VALUE=DATE:20200203
DTSTAMP:20260421T034312
CREATED:20191223T104659Z
LAST-MODIFIED:20191223T104659Z
UID:522-1580428800-1580687999@blog.mascus.ee
SUMMARY:Centralne Targi Rolnicze
DESCRIPTION:Ana Maria JurcaCommunications Specialist & Social Media Manager at Mascus
URL:https://blog.mascus.ee/fair/centralne-targi-rolnicze-2/
LOCATION:PL\, Poland
CATEGORIES:Agriculture
ATTACH;FMTTYPE=image/jpeg:https://blog.mascus.ee/wp-content/uploads/sites/20/2019/12/stand_banner_10601.jpg
END:VEVENT
BEGIN:VEVENT
DTSTART;VALUE=DATE:20200130
DTEND;VALUE=DATE:20200203
DTSTAMP:20260421T034312
CREATED:20191223T104658Z
LAST-MODIFIED:20191223T104658Z
UID:521-1580342400-1580687999@blog.mascus.ee
SUMMARY:AGROTICA
DESCRIPTION:Ana Maria JurcaCommunications Specialist & Social Media Manager at Mascus
URL:https://blog.mascus.ee/fair/agrotica/
LOCATION:GR\, Greece
CATEGORIES:Agriculture
ATTACH;FMTTYPE=image/jpeg:https://blog.mascus.ee/wp-content/uploads/sites/20/2019/12/stand_banner_10601.jpg
END:VEVENT
BEGIN:VEVENT
DTSTART;VALUE=DATE:20200129
DTEND;VALUE=DATE:20200202
DTSTAMP:20260421T034312
CREATED:20191223T104656Z
LAST-MODIFIED:20191223T104656Z
UID:519-1580256000-1580601599@blog.mascus.ee
SUMMARY:Fieragricola
DESCRIPTION:Ana Maria JurcaCommunications Specialist & Social Media Manager at Mascus
URL:https://blog.mascus.ee/fair/fieragricola/
LOCATION:IT\, Italy
CATEGORIES:Agriculture
ATTACH;FMTTYPE=image/jpeg:https://blog.mascus.ee/wp-content/uploads/sites/20/2019/12/stand_banner_10601.jpg
END:VEVENT
BEGIN:VEVENT
DTSTART;VALUE=DATE:20200125
DTEND;VALUE=DATE:20200128
DTSTAMP:20260421T034312
CREATED:20191223T104656Z
LAST-MODIFIED:20191223T104656Z
UID:518-1579910400-1580169599@blog.mascus.ee
SUMMARY:Agro Expo
DESCRIPTION:Ana Maria JurcaCommunications Specialist & Social Media Manager at Mascus
URL:https://blog.mascus.ee/fair/agro-expo/
LOCATION:BE\, Belgium
CATEGORIES:Agriculture
ATTACH;FMTTYPE=image/jpeg:https://blog.mascus.ee/wp-content/uploads/sites/20/2019/12/stand_banner_10601.jpg
END:VEVENT
BEGIN:VEVENT
DTSTART;VALUE=DATE:20200122
DTEND;VALUE=DATE:20200126
DTSTAMP:20260421T034312
CREATED:20191223T104655Z
LAST-MODIFIED:20191223T104655Z
UID:517-1579651200-1579996799@blog.mascus.ee
SUMMARY:AgroMash 2020
DESCRIPTION:Ana Maria JurcaCommunications Specialist & Social Media Manager at Mascus
URL:https://blog.mascus.ee/fair/agromash-2020/
LOCATION:HU\, Hungary
CATEGORIES:Agriculture
ATTACH;FMTTYPE=image/jpeg:https://blog.mascus.ee/wp-content/uploads/sites/20/2019/12/stand_banner_10601.jpg
END:VEVENT
BEGIN:VEVENT
DTSTART;VALUE=DATE:20200121
DTEND;VALUE=DATE:20200124
DTSTAMP:20260421T034312
CREATED:20191223T104654Z
LAST-MODIFIED:20191223T104654Z
UID:515-1579564800-1579823999@blog.mascus.ee
SUMMARY:Arctic Entrepreneur
DESCRIPTION:Ana Maria JurcaCommunications Specialist & Social Media Manager at Mascus
URL:https://blog.mascus.ee/fair/arctic-entrepreneur/
LOCATION:NO\, Norway
CATEGORIES:Construction
ATTACH;FMTTYPE=image/jpeg:https://blog.mascus.ee/wp-content/uploads/sites/20/2019/12/stand_banner_10601.jpg
END:VEVENT
BEGIN:VEVENT
DTSTART;VALUE=DATE:20191203
DTEND;VALUE=DATE:20191209
DTSTAMP:20260421T034312
CREATED:20181228T130329Z
LAST-MODIFIED:20181228T130329Z
UID:238-1575331200-1575849599@blog.mascus.ee
SUMMARY:Agribex
DESCRIPTION:Ana Maria JurcaCommunications Specialist & Social Media Manager at Mascus
URL:https://blog.mascus.ee/fair/agribex/
LOCATION:BE\, Belgium
CATEGORIES:Agriculture
END:VEVENT
BEGIN:VEVENT
DTSTART;VALUE=DATE:20191126
DTEND;VALUE=DATE:20191128
DTSTAMP:20260421T034312
CREATED:20181228T130348Z
LAST-MODIFIED:20181228T130348Z
UID:268-1574726400-1574899199@blog.mascus.ee
SUMMARY:Construction Forum
DESCRIPTION:Ana Maria JurcaCommunications Specialist & Social Media Manager at Mascus
URL:https://blog.mascus.ee/fair/construction-forum/
LOCATION:DE\, Germany
CATEGORIES:Construction
END:VEVENT
BEGIN:VEVENT
DTSTART;VALUE=DATE:20191119
DTEND;VALUE=DATE:20191123
DTSTAMP:20260421T034312
CREATED:20181228T130416Z
LAST-MODIFIED:20181228T130416Z
UID:318-1574121600-1574467199@blog.mascus.ee
SUMMARY:YugAgro (Krasnodar)
DESCRIPTION:Ana Maria JurcaCommunications Specialist & Social Media Manager at Mascus
URL:https://blog.mascus.ee/fair/yugagro-krasnodar/
LOCATION:RU\, Russia
CATEGORIES:Agriculture
END:VEVENT
BEGIN:VEVENT
DTSTART;VALUE=DATE:20191119
DTEND;VALUE=DATE:20191124
DTSTAMP:20260421T034312
CREATED:20181228T130340Z
LAST-MODIFIED:20181228T130340Z
UID:255-1574121600-1574553599@blog.mascus.ee
SUMMARY:Solutrans
DESCRIPTION:Ana Maria JurcaCommunications Specialist & Social Media Manager at Mascus
URL:https://blog.mascus.ee/fair/solutrans/
LOCATION:FR\, France
CATEGORIES:Transport
END:VEVENT
BEGIN:VEVENT
DTSTART;VALUE=DATE:20191110
DTEND;VALUE=DATE:20191117
DTSTAMP:20260421T034312
CREATED:20181228T130345Z
LAST-MODIFIED:20181228T130345Z
UID:263-1573344000-1573948799@blog.mascus.ee
SUMMARY:Agritechnica
DESCRIPTION:Ana Maria JurcaCommunications Specialist & Social Media Manager at Mascus
URL:https://blog.mascus.ee/fair/agritechnica/
LOCATION:DE\, Germany
CATEGORIES:Agriculture
END:VEVENT
BEGIN:VEVENT
DTSTART;VALUE=DATE:20191107
DTEND;VALUE=DATE:20191111
DTSTAMP:20260421T034312
CREATED:20181228T130358Z
LAST-MODIFIED:20181228T130358Z
UID:285-1573084800-1573430399@blog.mascus.ee
SUMMARY:Agrialp
DESCRIPTION:Ana Maria JurcaCommunications Specialist & Social Media Manager at Mascus
URL:https://blog.mascus.ee/fair/agrialp/
LOCATION:IT\, Italy
CATEGORIES:Agriculture
END:VEVENT
BEGIN:VEVENT
DTSTART;VALUE=DATE:20191106
DTEND;VALUE=DATE:20191108
DTSTAMP:20260421T034312
CREATED:20181228T130406Z
LAST-MODIFIED:20181228T130406Z
UID:301-1572998400-1573171199@blog.mascus.ee
SUMMARY:Park & Anlegg 2019
DESCRIPTION:Ana Maria JurcaCommunications Specialist & Social Media Manager at Mascus
URL:https://blog.mascus.ee/fair/park-anlegg-2019/
LOCATION:NO\, Norway
CATEGORIES:Groundscare
END:VEVENT
BEGIN:VEVENT
DTSTART;VALUE=DATE:20191105
DTEND;VALUE=DATE:20191109
DTSTAMP:20260421T034312
CREATED:20181228T130358Z
LAST-MODIFIED:20181228T130358Z
UID:286-1572912000-1573257599@blog.mascus.ee
SUMMARY:Ecomondo
DESCRIPTION:Ana Maria JurcaCommunications Specialist & Social Media Manager at Mascus
URL:https://blog.mascus.ee/fair/ecomondo/
LOCATION:IT\, Italy
CATEGORIES:Construction
END:VEVENT
BEGIN:VEVENT
DTSTART;VALUE=DATE:20191104
DTEND;VALUE=DATE:20191109
DTSTAMP:20260421T034312
CREATED:20181228T130416Z
LAST-MODIFIED:20181228T130416Z
UID:317-1572825600-1573257599@blog.mascus.ee
SUMMARY:UralMining (Ekaterinburg)
DESCRIPTION:Ana Maria JurcaCommunications Specialist & Social Media Manager at Mascus
URL:https://blog.mascus.ee/fair/uralmining-ekaterinburg/
LOCATION:RU\, Russia
CATEGORIES:Construction
END:VEVENT
BEGIN:VEVENT
DTSTART;VALUE=DATE:20191024
DTEND;VALUE=DATE:20191027
DTSTAMP:20260421T034312
CREATED:20181228T130418Z
LAST-MODIFIED:20181228T130418Z
UID:319-1571875200-1572134399@blog.mascus.ee
SUMMARY:Wasma (Moscow)
DESCRIPTION:Ana Maria JurcaCommunications Specialist & Social Media Manager at Mascus
URL:https://blog.mascus.ee/fair/wasma-moscow/
LOCATION:RU\, Russia
CATEGORIES:Groundscare
END:VEVENT
BEGIN:VEVENT
DTSTART;VALUE=DATE:20191010
DTEND;VALUE=DATE:20191013
DTSTAMP:20260421T034312
CREATED:20190516T085925Z
LAST-MODIFIED:20190516T085925Z
UID:357-1570665600-1570924799@blog.mascus.ee
SUMMARY:Koneagria
DESCRIPTION:Ana Maria JurcaCommunications Specialist & Social Media Manager at Mascus
URL:https://blog.mascus.ee/fair/koneagria/
LOCATION:FI\, Finland
CATEGORIES:Agriculture
END:VEVENT
BEGIN:VEVENT
DTSTART;VALUE=DATE:20191010
DTEND;VALUE=DATE:20191014
DTSTAMP:20260421T034312
CREATED:20181228T130357Z
LAST-MODIFIED:20181228T130357Z
UID:284-1570665600-1571011199@blog.mascus.ee
SUMMARY:Agrilevante
DESCRIPTION:Ana Maria JurcaCommunications Specialist & Social Media Manager at Mascus
URL:https://blog.mascus.ee/fair/agrilevante/
LOCATION:IT\, Italy
CATEGORIES:Agriculture
END:VEVENT
BEGIN:VEVENT
DTSTART;VALUE=DATE:20191008
DTEND;VALUE=DATE:20191011
DTSTAMP:20260421T034312
CREATED:20181228T130403Z
LAST-MODIFIED:20181228T130403Z
UID:295-1570492800-1570751999@blog.mascus.ee
SUMMARY:Bouw Compleet
DESCRIPTION:Ana Maria JurcaCommunications Specialist & Social Media Manager at Mascus
URL:https://blog.mascus.ee/fair/bouw-compleet/
LOCATION:NL\, Netherlands
CATEGORIES:Construction
END:VEVENT
BEGIN:VEVENT
DTSTART;VALUE=DATE:20191007
DTEND;VALUE=DATE:20191012
DTSTAMP:20260421T034312
CREATED:20181228T130335Z
LAST-MODIFIED:20181228T130335Z
UID:247-1570406400-1570838399@blog.mascus.ee
SUMMARY:MSV
DESCRIPTION:Ana Maria JurcaCommunications Specialist & Social Media Manager at Mascus
URL:https://blog.mascus.ee/fair/msv/
LOCATION:CZ\, Czech Republic
CATEGORIES:Construction
END:VEVENT
BEGIN:VEVENT
DTSTART;VALUE=DATE:20191003
DTEND;VALUE=DATE:20191006
DTSTAMP:20260421T034312
CREATED:20181228T130359Z
LAST-MODIFIED:20181228T130359Z
UID:288-1570060800-1570319999@blog.mascus.ee
SUMMARY:Lauksaimniecības un meža tehnika. Lauku sēta 2019. RĀMAVA
DESCRIPTION:Ana Maria JurcaCommunications Specialist & Social Media Manager at Mascus
URL:https://blog.mascus.ee/fair/lauksaimniecibas-un-meza-tehnika-lauku-seta-2019-ramava/
LOCATION:LV\, Latvia
CATEGORIES:Agriculture
END:VEVENT
BEGIN:VEVENT
DTSTART;VALUE=DATE:20191003
DTEND;VALUE=DATE:20191006
DTSTAMP:20260421T034312
CREATED:20181228T130356Z
LAST-MODIFIED:20181228T130356Z
UID:283-1570060800-1570319999@blog.mascus.ee
SUMMARY:Gis
DESCRIPTION:Ana Maria JurcaCommunications Specialist & Social Media Manager at Mascus
URL:https://blog.mascus.ee/fair/gis/
LOCATION:IT\, Italy
CATEGORIES:Material Handling
END:VEVENT
BEGIN:VEVENT
DTSTART;VALUE=DATE:20190926
DTEND;VALUE=DATE:20190929
DTSTAMP:20260421T034312
CREATED:20181228T130406Z
LAST-MODIFIED:20181228T130406Z
UID:300-1569456000-1569715199@blog.mascus.ee
SUMMARY:Transport & Logistikk 2019
DESCRIPTION:Ana Maria JurcaCommunications Specialist & Social Media Manager at Mascus
URL:https://blog.mascus.ee/fair/transport-logistikk-2019/
LOCATION:NO\, Norway
CATEGORIES:Material Handling,Transport
END:VEVENT
END:VCALENDAR