BEGIN:VCALENDAR
VERSION:2.0
PRODID:-//Mascus Blog Eesti - ECPv6.15.17//NONSGML v1.0//EN
CALSCALE:GREGORIAN
METHOD:PUBLISH
X-WR-CALNAME:Mascus Blog Eesti
X-ORIGINAL-URL:https://blog.mascus.ee
X-WR-CALDESC:Events for Mascus Blog Eesti
REFRESH-INTERVAL;VALUE=DURATION:PT1H
X-Robots-Tag:noindex
X-PUBLISHED-TTL:PT1H
BEGIN:VTIMEZONE
TZID:UTC
BEGIN:STANDARD
TZOFFSETFROM:+0000
TZOFFSETTO:+0000
TZNAME:UTC
DTSTART:20190101T000000
END:STANDARD
END:VTIMEZONE
BEGIN:VEVENT
DTSTART;VALUE=DATE:20201203
DTEND;VALUE=DATE:20201207
DTSTAMP:20260421T011926
CREATED:20191223T104752Z
LAST-MODIFIED:20191223T104752Z
UID:611-1606953600-1607299199@blog.mascus.ee
SUMMARY:CroAGRO sajam poljoprivrede\, poljoopreme i mehanizacije
DESCRIPTION:Ana Maria JurcaCommunications Specialist & Social Media Manager at Mascus
URL:https://blog.mascus.ee/fair/croagro-sajam-poljoprivrede-poljoopreme-i-mehanizacije/
LOCATION:HR\, Croatia
CATEGORIES:Agriculture
ATTACH;FMTTYPE=image/jpeg:https://blog.mascus.ee/wp-content/uploads/sites/20/2019/12/stand_banner_10601.jpg
END:VEVENT
BEGIN:VEVENT
DTSTART;VALUE=DATE:20201201
DTEND;VALUE=DATE:20201205
DTSTAMP:20260421T011927
CREATED:20191223T104751Z
LAST-MODIFIED:20191223T104751Z
UID:610-1606780800-1607126399@blog.mascus.ee
SUMMARY:Polutec
DESCRIPTION:Ana Maria JurcaCommunications Specialist & Social Media Manager at Mascus
URL:https://blog.mascus.ee/fair/polutec/
LOCATION:FR\, France
CATEGORIES:Groundscare
ATTACH;FMTTYPE=image/jpeg:https://blog.mascus.ee/wp-content/uploads/sites/20/2019/12/stand_banner_10601.jpg
END:VEVENT
BEGIN:VEVENT
DTSTART;VALUE=DATE:20201130
DTEND;VALUE=DATE:20201202
DTSTAMP:20260421T011927
CREATED:20191223T104751Z
LAST-MODIFIED:20191223T104751Z
UID:609-1606694400-1606867199@blog.mascus.ee
SUMMARY:Construction Equipment Forum
DESCRIPTION:Ana Maria JurcaCommunications Specialist & Social Media Manager at Mascus
URL:https://blog.mascus.ee/fair/construction-equipment-forum/
LOCATION:DE\, Germany
CATEGORIES:Construction
ATTACH;FMTTYPE=image/jpeg:https://blog.mascus.ee/wp-content/uploads/sites/20/2019/12/stand_banner_10601.jpg
END:VEVENT
BEGIN:VEVENT
DTSTART;VALUE=DATE:20201125
DTEND;VALUE=DATE:20201129
DTSTAMP:20260421T011927
CREATED:20191223T104750Z
LAST-MODIFIED:20191223T104750Z
UID:608-1606262400-1606607999@blog.mascus.ee
SUMMARY:Agraria Wels
DESCRIPTION:Ana Maria JurcaCommunications Specialist & Social Media Manager at Mascus
URL:https://blog.mascus.ee/fair/agraria-wels/
LOCATION:AT\, Austria
CATEGORIES:Agriculture
ATTACH;FMTTYPE=image/jpeg:https://blog.mascus.ee/wp-content/uploads/sites/20/2019/12/stand_banner_10601.jpg
END:VEVENT
BEGIN:VEVENT
DTSTART;VALUE=DATE:20201124
DTEND;VALUE=DATE:20201128
DTSTAMP:20260421T011927
CREATED:20191223T104749Z
LAST-MODIFIED:20191223T104749Z
UID:606-1606176000-1606521599@blog.mascus.ee
SUMMARY:bauma CHINA
DESCRIPTION:Ana Maria JurcaCommunications Specialist & Social Media Manager at Mascus
URL:https://blog.mascus.ee/fair/bauma-china/
LOCATION:CN\, China
CATEGORIES:Construction
ATTACH;FMTTYPE=image/jpeg:https://blog.mascus.ee/wp-content/uploads/sites/20/2019/12/stand_banner_10601.jpg
END:VEVENT
BEGIN:VEVENT
DTSTART;VALUE=DATE:20201124
DTEND;VALUE=DATE:20201128
DTSTAMP:20260421T011927
CREATED:20191223T104749Z
LAST-MODIFIED:20191223T104749Z
UID:607-1606176000-1606521599@blog.mascus.ee
SUMMARY:yugagro 2020
DESCRIPTION:Ana Maria JurcaCommunications Specialist & Social Media Manager at Mascus
URL:https://blog.mascus.ee/fair/yugagro-2020/
LOCATION:RU\, Russia
CATEGORIES:Agriculture
ATTACH;FMTTYPE=image/jpeg:https://blog.mascus.ee/wp-content/uploads/sites/20/2019/12/stand_banner_10601.jpg
END:VEVENT
BEGIN:VEVENT
DTSTART;VALUE=DATE:20201118
DTEND;VALUE=DATE:20201120
DTSTAMP:20260421T011927
CREATED:20191223T104748Z
LAST-MODIFIED:20191223T104748Z
UID:605-1605657600-1605830399@blog.mascus.ee
SUMMARY:FinnMATERIA
DESCRIPTION:Ana Maria JurcaCommunications Specialist & Social Media Manager at Mascus
URL:https://blog.mascus.ee/fair/finnmateria/
LOCATION:FI\, Finland
CATEGORIES:Construction
ATTACH;FMTTYPE=image/jpeg:https://blog.mascus.ee/wp-content/uploads/sites/20/2019/12/stand_banner_10601.jpg
END:VEVENT
BEGIN:VEVENT
DTSTART;VALUE=DATE:20201111
DTEND;VALUE=DATE:20201116
DTSTAMP:20260421T011927
CREATED:20191223T104748Z
LAST-MODIFIED:20191223T104748Z
UID:604-1605052800-1605484799@blog.mascus.ee
SUMMARY:Eima
DESCRIPTION:Ana Maria JurcaCommunications Specialist & Social Media Manager at Mascus
URL:https://blog.mascus.ee/fair/eima/
LOCATION:IT\, Italy
CATEGORIES:Agriculture
ATTACH;FMTTYPE=image/jpeg:https://blog.mascus.ee/wp-content/uploads/sites/20/2019/12/stand_banner_10601.jpg
END:VEVENT
BEGIN:VEVENT
DTSTART;VALUE=DATE:20201110
DTEND;VALUE=DATE:20201113
DTSTAMP:20260421T011927
CREATED:20191223T104747Z
LAST-MODIFIED:20191223T104747Z
UID:603-1604966400-1605225599@blog.mascus.ee
SUMMARY:Komunteh
DESCRIPTION:Ana Maria JurcaCommunications Specialist & Social Media Manager at Mascus
URL:https://blog.mascus.ee/fair/komunteh/
LOCATION:UA\, Ukraine
CATEGORIES:Construction,Groundscare
ATTACH;FMTTYPE=image/jpeg:https://blog.mascus.ee/wp-content/uploads/sites/20/2019/12/stand_banner_10601.jpg
END:VEVENT
BEGIN:VEVENT
DTSTART;VALUE=DATE:20201108
DTEND;VALUE=DATE:20201113
DTSTAMP:20260421T011927
CREATED:20191223T104747Z
LAST-MODIFIED:20191223T104747Z
UID:602-1604793600-1605225599@blog.mascus.ee
SUMMARY:SIMA
DESCRIPTION:Ana Maria JurcaCommunications Specialist & Social Media Manager at Mascus
URL:https://blog.mascus.ee/fair/sima-2/
LOCATION:FR\, France
CATEGORIES:Agriculture
ATTACH;FMTTYPE=image/jpeg:https://blog.mascus.ee/wp-content/uploads/sites/20/2019/12/stand_banner_10601.jpg
END:VEVENT
BEGIN:VEVENT
DTSTART;VALUE=DATE:20201105
DTEND;VALUE=DATE:20201109
DTSTAMP:20260421T011927
CREATED:20191223T104746Z
LAST-MODIFIED:20191223T104746Z
UID:601-1604534400-1604879999@blog.mascus.ee
SUMMARY:AgroAlpin Innsbruck
DESCRIPTION:Ana Maria JurcaCommunications Specialist & Social Media Manager at Mascus
URL:https://blog.mascus.ee/fair/agroalpin-innsbruck/
LOCATION:AT\, Austria
CATEGORIES:Agriculture
ATTACH;FMTTYPE=image/jpeg:https://blog.mascus.ee/wp-content/uploads/sites/20/2019/12/stand_banner_10601.jpg
END:VEVENT
BEGIN:VEVENT
DTSTART;VALUE=DATE:20201105
DTEND;VALUE=DATE:20201108
DTSTAMP:20260421T011927
CREATED:20191223T104745Z
LAST-MODIFIED:20191223T104745Z
UID:600-1604534400-1604793599@blog.mascus.ee
SUMMARY:MaatalousKonemessut
DESCRIPTION:Ana Maria JurcaCommunications Specialist & Social Media Manager at Mascus
URL:https://blog.mascus.ee/fair/maatalouskonemessut/
LOCATION:FI\, Finland
CATEGORIES:Agriculture
ATTACH;FMTTYPE=image/jpeg:https://blog.mascus.ee/wp-content/uploads/sites/20/2019/12/stand_banner_10601.jpg
END:VEVENT
BEGIN:VEVENT
DTSTART;VALUE=DATE:20201103
DTEND;VALUE=DATE:20201107
DTSTAMP:20260421T011927
CREATED:20191223T104745Z
LAST-MODIFIED:20191223T104745Z
UID:599-1604361600-1604707199@blog.mascus.ee
SUMMARY:Ecomondo
DESCRIPTION:Ana Maria JurcaCommunications Specialist & Social Media Manager at Mascus
URL:https://blog.mascus.ee/fair/ecomondo-2/
LOCATION:IT\, Italy
CATEGORIES:Agriculture
ATTACH;FMTTYPE=image/jpeg:https://blog.mascus.ee/wp-content/uploads/sites/20/2019/12/stand_banner_10601.jpg
END:VEVENT
BEGIN:VEVENT
DTSTART;VALUE=DATE:20201031
DTEND;VALUE=DATE:20201102
DTSTAMP:20260421T011927
CREATED:20191223T104744Z
LAST-MODIFIED:20191223T104744Z
UID:598-1604102400-1604275199@blog.mascus.ee
SUMMARY:Estonian Agricultural Annual Exhibition
DESCRIPTION:Ana Maria JurcaCommunications Specialist & Social Media Manager at Mascus
URL:https://blog.mascus.ee/fair/estonian-agricultural-annual-exhibition/
LOCATION:EE\, Estonia
CATEGORIES:Agriculture
ATTACH;FMTTYPE=image/jpeg:https://blog.mascus.ee/wp-content/uploads/sites/20/2019/12/stand_banner_10601.jpg
END:VEVENT
BEGIN:VEVENT
DTSTART;VALUE=DATE:20201029
DTEND;VALUE=DATE:20201102
DTSTAMP:20260421T011927
CREATED:20191230T105519Z
LAST-MODIFIED:20191230T110700Z
UID:612-1603929600-1604275199@blog.mascus.ee
SUMMARY:한국국제건설기계전
DESCRIPTION:Ana Maria JurcaCommunications Specialist & Social Media Manager at Mascus
URL:https://blog.mascus.ee/fair/%ed%95%9c%ea%b5%ad%ea%b5%ad%ec%a0%9c%ea%b1%b4%ec%84%a4%ea%b8%b0%ea%b3%84%ec%a0%84/
LOCATION:KR\, South Korea
CATEGORIES:Construction
END:VEVENT
BEGIN:VEVENT
DTSTART;VALUE=DATE:20201023
DTEND;VALUE=DATE:20201026
DTSTAMP:20260421T011927
CREATED:20191223T104717Z
LAST-MODIFIED:20200312T122121Z
UID:552-1603411200-1603670399@blog.mascus.ee
SUMMARY:ShanDong International Logistics and Warehousing and Distribution Exhibition
DESCRIPTION:Ana Maria JurcaCommunications Specialist & Social Media Manager at Mascus
URL:https://blog.mascus.ee/fair/shandong-international-logistics-and-warehousing-and-distribution-exhibition/
LOCATION:CN\, China
CATEGORIES:Material Handling
ATTACH;FMTTYPE=image/jpeg:https://blog.mascus.ee/wp-content/uploads/sites/20/2019/12/stand_banner_10601.jpg
END:VEVENT
BEGIN:VEVENT
DTSTART;VALUE=DATE:20201021
DTEND;VALUE=DATE:20201024
DTSTAMP:20260421T011927
CREATED:20191223T104743Z
LAST-MODIFIED:20191223T104743Z
UID:597-1603238400-1603497599@blog.mascus.ee
SUMMARY:Elmia Lantbruk
DESCRIPTION:Ana Maria JurcaCommunications Specialist & Social Media Manager at Mascus
URL:https://blog.mascus.ee/fair/elmia-lantbruk/
LOCATION:SE\, Sweden
CATEGORIES:Agriculture
ATTACH;FMTTYPE=image/jpeg:https://blog.mascus.ee/wp-content/uploads/sites/20/2019/12/stand_banner_10601.jpg
END:VEVENT
BEGIN:VEVENT
DTSTART;VALUE=DATE:20201021
DTEND;VALUE=DATE:20201026
DTSTAMP:20260421T011927
CREATED:20191223T104706Z
LAST-MODIFIED:20200316T095222Z
UID:533-1603238400-1603670399@blog.mascus.ee
SUMMARY:Samoter
DESCRIPTION:Ana Maria JurcaCommunications Specialist & Social Media Manager at Mascus
URL:https://blog.mascus.ee/fair/samoter/
LOCATION:IT\, Italy
CATEGORIES:Construction
ATTACH;FMTTYPE=image/jpeg:https://blog.mascus.ee/wp-content/uploads/sites/20/2019/12/stand_banner_10601.jpg
END:VEVENT
BEGIN:VEVENT
DTSTART;VALUE=DATE:20201020
DTEND;VALUE=DATE:20201023
DTSTAMP:20260421T011927
CREATED:20191223T104743Z
LAST-MODIFIED:20191223T104743Z
UID:596-1603152000-1603411199@blog.mascus.ee
SUMMARY:POL-ECO System
DESCRIPTION:Ana Maria JurcaCommunications Specialist & Social Media Manager at Mascus
URL:https://blog.mascus.ee/fair/pol-eco-system/
LOCATION:PL\, Poland
CATEGORIES:Groundscare
ATTACH;FMTTYPE=image/jpeg:https://blog.mascus.ee/wp-content/uploads/sites/20/2019/12/stand_banner_10601.jpg
END:VEVENT
BEGIN:VEVENT
DTSTART;VALUE=DATE:20201007
DTEND;VALUE=DATE:20201010
DTSTAMP:20260421T011927
CREATED:20191223T104742Z
LAST-MODIFIED:20191223T104742Z
UID:595-1602028800-1602287999@blog.mascus.ee
SUMMARY:SIM
DESCRIPTION:Ana Maria JurcaCommunications Specialist & Social Media Manager at Mascus
URL:https://blog.mascus.ee/fair/sim/
LOCATION:FR\, France
CATEGORIES:Construction
ATTACH;FMTTYPE=image/jpeg:https://blog.mascus.ee/wp-content/uploads/sites/20/2019/12/stand_banner_10601.jpg
END:VEVENT
BEGIN:VEVENT
DTSTART;VALUE=DATE:20201003
DTEND;VALUE=DATE:20201006
DTSTAMP:20260421T011927
CREATED:20191223T104727Z
LAST-MODIFIED:20200407T141857Z
UID:569-1601683200-1601942399@blog.mascus.ee
SUMMARY:RAMAVA"Lauksaimniecības un meža tehnika. Lauku sēta 2020"
DESCRIPTION:Ana Maria JurcaCommunications Specialist & Social Media Manager at Mascus
URL:https://blog.mascus.ee/fair/ramavalauksaimniecibas-un-meza-tehnika-lauku-seta-2020/
LOCATION:LV\, Latvia
CATEGORIES:Agriculture,Forestry
ATTACH;FMTTYPE=image/jpeg:https://blog.mascus.ee/wp-content/uploads/sites/20/2019/12/stand_banner_10601.jpg
END:VEVENT
BEGIN:VEVENT
DTSTART;VALUE=DATE:20200925
DTEND;VALUE=DATE:20200928
DTSTAMP:20260421T011927
CREATED:20191223T104742Z
LAST-MODIFIED:20191223T104742Z
UID:594-1600992000-1601251199@blog.mascus.ee
SUMMARY:Motoshow
DESCRIPTION:Ana Maria JurcaCommunications Specialist & Social Media Manager at Mascus
URL:https://blog.mascus.ee/fair/motoshow/
LOCATION:EE\, Estonia
CATEGORIES:Transport
ATTACH;FMTTYPE=image/jpeg:https://blog.mascus.ee/wp-content/uploads/sites/20/2019/12/stand_banner_10601.jpg
END:VEVENT
BEGIN:VEVENT
DTSTART;VALUE=DATE:20200924
DTEND;VALUE=DATE:20201001
DTSTAMP:20260421T011927
CREATED:20191223T104741Z
LAST-MODIFIED:20191223T104741Z
UID:593-1600905600-1601510399@blog.mascus.ee
SUMMARY:IAA Nutzfahrzeuge Hannover
DESCRIPTION:Ana Maria JurcaCommunications Specialist & Social Media Manager at Mascus
URL:https://blog.mascus.ee/fair/iaa-nutzfahrzeuge-hannover/
LOCATION:DE\, Germany
CATEGORIES:Transport
ATTACH;FMTTYPE=image/jpeg:https://blog.mascus.ee/wp-content/uploads/sites/20/2019/12/stand_banner_10601.jpg
END:VEVENT
BEGIN:VEVENT
DTSTART;VALUE=DATE:20200919
DTEND;VALUE=DATE:20200928
DTSTAMP:20260421T011927
CREATED:20191223T104740Z
LAST-MODIFIED:20191223T104740Z
UID:592-1600473600-1601251199@blog.mascus.ee
SUMMARY:ZLF
DESCRIPTION:Ana Maria JurcaCommunications Specialist & Social Media Manager at Mascus
URL:https://blog.mascus.ee/fair/zlf/
LOCATION:DE\, Germany
CATEGORIES:Agriculture
ATTACH;FMTTYPE=image/jpeg:https://blog.mascus.ee/wp-content/uploads/sites/20/2019/12/stand_banner_10601.jpg
END:VEVENT
BEGIN:VEVENT
DTSTART;VALUE=DATE:20200918
DTEND;VALUE=DATE:20200920
DTSTAMP:20260421T011927
CREATED:20191223T104740Z
LAST-MODIFIED:20191223T104740Z
UID:591-1600387200-1600559999@blog.mascus.ee
SUMMARY:Platformers days
DESCRIPTION:Ana Maria JurcaCommunications Specialist & Social Media Manager at Mascus
URL:https://blog.mascus.ee/fair/platformers-days/
LOCATION:DE\, Germany
CATEGORIES:Material Handling
ATTACH;FMTTYPE=image/jpeg:https://blog.mascus.ee/wp-content/uploads/sites/20/2019/12/stand_banner_10601.jpg
END:VEVENT
BEGIN:VEVENT
DTSTART;VALUE=DATE:20200917
DTEND;VALUE=DATE:20200920
DTSTAMP:20260421T011927
CREATED:20191223T104739Z
LAST-MODIFIED:20191223T104739Z
UID:590-1600300800-1600559999@blog.mascus.ee
SUMMARY:EBSZ 2020
DESCRIPTION:Ana Maria JurcaCommunications Specialist & Social Media Manager at Mascus
URL:https://blog.mascus.ee/fair/ebsz-2020/
LOCATION:HU\, Hungary
CATEGORIES:Construction
ATTACH;FMTTYPE=image/jpeg:https://blog.mascus.ee/wp-content/uploads/sites/20/2019/12/stand_banner_10601.jpg
END:VEVENT
BEGIN:VEVENT
DTSTART;VALUE=DATE:20200917
DTEND;VALUE=DATE:20200921
DTSTAMP:20260421T011927
CREATED:20191223T104738Z
LAST-MODIFIED:20191223T104738Z
UID:589-1600300800-1600646399@blog.mascus.ee
SUMMARY:AGRO SHOW
DESCRIPTION:Ana Maria JurcaCommunications Specialist & Social Media Manager at Mascus
URL:https://blog.mascus.ee/fair/agro-show/
LOCATION:PL\, Poland
CATEGORIES:Agriculture
ATTACH;FMTTYPE=image/jpeg:https://blog.mascus.ee/wp-content/uploads/sites/20/2019/12/stand_banner_10601.jpg
END:VEVENT
BEGIN:VEVENT
DTSTART;VALUE=DATE:20200916
DTEND;VALUE=DATE:20200920
DTSTAMP:20260421T011927
CREATED:20191223T104738Z
LAST-MODIFIED:20191223T104738Z
UID:588-1600214400-1600559999@blog.mascus.ee
SUMMARY:GaLaBau Nürnberg
DESCRIPTION:Ana Maria JurcaCommunications Specialist & Social Media Manager at Mascus
URL:https://blog.mascus.ee/fair/galabau-nurnberg/
LOCATION:DE\, Germany
CATEGORIES:Groundscare
ATTACH;FMTTYPE=image/jpeg:https://blog.mascus.ee/wp-content/uploads/sites/20/2019/12/stand_banner_10601.jpg
END:VEVENT
BEGIN:VEVENT
DTSTART;VALUE=DATE:20200911
DTEND;VALUE=DATE:20200914
DTSTAMP:20260421T011927
CREATED:20191223T104737Z
LAST-MODIFIED:20191223T104737Z
UID:586-1599782400-1600041599@blog.mascus.ee
SUMMARY:EKO Las
DESCRIPTION:Ana Maria JurcaCommunications Specialist & Social Media Manager at Mascus
URL:https://blog.mascus.ee/fair/eko-las/
LOCATION:PL\, Poland
CATEGORIES:Forestry
ATTACH;FMTTYPE=image/jpeg:https://blog.mascus.ee/wp-content/uploads/sites/20/2019/12/stand_banner_10601.jpg
END:VEVENT
BEGIN:VEVENT
DTSTART;VALUE=DATE:20200911
DTEND;VALUE=DATE:20200914
DTSTAMP:20260421T011927
CREATED:20191223T104737Z
LAST-MODIFIED:20191223T104737Z
UID:587-1599782400-1600041599@blog.mascus.ee
SUMMARY:Dyrskun 2020
DESCRIPTION:Ana Maria JurcaCommunications Specialist & Social Media Manager at Mascus
URL:https://blog.mascus.ee/fair/dyrskun-2020/
LOCATION:NO\, Norway
CATEGORIES:Agriculture,Construction
ATTACH;FMTTYPE=image/jpeg:https://blog.mascus.ee/wp-content/uploads/sites/20/2019/12/stand_banner_10601.jpg
END:VEVENT
END:VCALENDAR